BEGIN:VCALENDAR
VERSION:2.0
PRODID:-//Warrior&#039;s Rest Foundation - ECPv6.15.18//NONSGML v1.0//EN
CALSCALE:GREGORIAN
METHOD:PUBLISH
X-ORIGINAL-URL:https://warriorsrestfoundation.org
X-WR-CALDESC:Events for Warrior&#039;s Rest Foundation
REFRESH-INTERVAL;VALUE=DURATION:PT1H
X-Robots-Tag:noindex
X-PUBLISHED-TTL:PT1H
BEGIN:VTIMEZONE
TZID:America/Chicago
BEGIN:DAYLIGHT
TZOFFSETFROM:-0600
TZOFFSETTO:-0500
TZNAME:CDT
DTSTART:20220313T080000
END:DAYLIGHT
BEGIN:STANDARD
TZOFFSETFROM:-0500
TZOFFSETTO:-0600
TZNAME:CST
DTSTART:20221106T070000
END:STANDARD
BEGIN:DAYLIGHT
TZOFFSETFROM:-0600
TZOFFSETTO:-0500
TZNAME:CDT
DTSTART:20230312T080000
END:DAYLIGHT
BEGIN:STANDARD
TZOFFSETFROM:-0500
TZOFFSETTO:-0600
TZNAME:CST
DTSTART:20231105T070000
END:STANDARD
BEGIN:DAYLIGHT
TZOFFSETFROM:-0600
TZOFFSETTO:-0500
TZNAME:CDT
DTSTART:20240310T080000
END:DAYLIGHT
BEGIN:STANDARD
TZOFFSETFROM:-0500
TZOFFSETTO:-0600
TZNAME:CST
DTSTART:20241103T070000
END:STANDARD
END:VTIMEZONE
BEGIN:VEVENT
DTSTART;TZID=America/Chicago:20230906T100000
DTEND;TZID=America/Chicago:20230906T120000
DTSTAMP:20260425T214736
CREATED:20230813T010043Z
LAST-MODIFIED:20230813T010133Z
UID:10000075-1693994400-1694001600@warriorsrestfoundation.org
SUMMARY:Surviving and Thriving: Your Career in Corrections
DESCRIPTION:This course provides common reactions to workplace stress as well as the impact of potential traumas experienced in the life of a First Responder in Corrections. The course challenges students to assess their resiliency prior to starting their First Responder career\, understand the adverse impact of hypervigilance\, and identify any life changes because of their career. The students will then be provided with different methods on how to become intentional with their relationships and personal time\, along with the benefits of healthy activities. \nTime: 10:00 – 12:00 \nState Accreditation Hours: 2 hours of CLEET
URL:https://warriorsrestfoundation.org/event/surviving-and-thriving-your-career-in-corrections-6/
LOCATION:Bill Johnson Correctional Center\, 1856 E. Flynn Street\, Alva\, OK\, 73717\, United States
CATEGORIES:Continuing Education,Emotional Survival
ATTACH;FMTTYPE=image/png:https://warriorsrestfoundation.org/wp-content/uploads/2023/08/Warriors-Rest-Event-Graphics.png
ORGANIZER;CN="Ginger Decoteau":MAILTO:ginger.decoteau@doc.ok.gov
END:VEVENT
BEGIN:VEVENT
DTSTART;TZID=America/Chicago:20230909T090000
DTEND;TZID=America/Chicago:20230909T170000
DTSTAMP:20260425T214736
CREATED:20230706T193332Z
LAST-MODIFIED:20230706T193727Z
UID:10000060-1694250000-1694278800@warriorsrestfoundation.org
SUMMARY:Home Watch - Law Enforcement Spouse Conference
DESCRIPTION:Building Strength for the Journey \nThis full-day conference is designed to equip men and women in their roles as law enforcement spouses/significant others. With teaching\, stories\, connection\, food\, and much more\, attendees will leave honored\, encouraged\, and inspired! \n  \nVisit our partners at How 2 Love Our Cops to find out more information and purchase your tickets. \n  \nhttps://how2loveourcops.ticketspice.com/home-watch-oklahoma-city \n 
URL:https://warriorsrestfoundation.org/event/home-watch-law-enforcement-spouse-conference/
LOCATION:MO
CATEGORIES:Continuing Education,Oklahoma Training,Training
ATTACH;FMTTYPE=image/jpeg:https://warriorsrestfoundation.org/wp-content/uploads/2022/12/Warriors-Rest-Event-Graphics.jpg
END:VEVENT
BEGIN:VEVENT
DTSTART;TZID=America/Chicago:20230919T100000
DTEND;TZID=America/Chicago:20230919T120000
DTSTAMP:20260425T214736
CREATED:20230813T004845Z
LAST-MODIFIED:20230813T005727Z
UID:10000073-1695117600-1695124800@warriorsrestfoundation.org
SUMMARY:Surviving and Thriving: Your Career in Corrections
DESCRIPTION:This course provides common reactions to workplace stress as well as the impact of potential traumas experienced in the life of a First Responder in Corrections. The course challenges students to assess their resiliency prior to starting their First Responder career\, understand the adverse impact of hypervigilance\, and identify any life changes because of their career. The students will then be provided with different methods on how to become intentional with their relationships and personal time\, along with the benefits of healthy activities. \nTime: 10:00 – 12:00 \nState Accreditation Hours: 2 hours of CLEET
URL:https://warriorsrestfoundation.org/event/surviving-and-thriving-your-career-in-corrections-4/
LOCATION:Dick Connor Correctional Center\, 129 Connor Rd\, Hominy\, OK\, 74035\, United States
CATEGORIES:Continuing Education,Emotional Survival
ATTACH;FMTTYPE=image/png:https://warriorsrestfoundation.org/wp-content/uploads/2023/08/Warriors-Rest-Event-Graphics.png
ORGANIZER;CN="Ginger Decoteau":MAILTO:ginger.decoteau@doc.ok.gov
END:VEVENT
END:VCALENDAR