BEGIN:VCALENDAR
VERSION:2.0
PRODID:-//Warrior&#039;s Rest Foundation - ECPv6.15.18//NONSGML v1.0//EN
CALSCALE:GREGORIAN
METHOD:PUBLISH
X-WR-CALNAME:Warrior&#039;s Rest Foundation
X-ORIGINAL-URL:https://warriorsrestfoundation.org
X-WR-CALDESC:Events for Warrior&#039;s Rest Foundation
REFRESH-INTERVAL;VALUE=DURATION:PT1H
X-Robots-Tag:noindex
X-PUBLISHED-TTL:PT1H
BEGIN:VTIMEZONE
TZID:America/Chicago
BEGIN:DAYLIGHT
TZOFFSETFROM:-0600
TZOFFSETTO:-0500
TZNAME:CDT
DTSTART:20230312T080000
END:DAYLIGHT
BEGIN:STANDARD
TZOFFSETFROM:-0500
TZOFFSETTO:-0600
TZNAME:CST
DTSTART:20231105T070000
END:STANDARD
BEGIN:DAYLIGHT
TZOFFSETFROM:-0600
TZOFFSETTO:-0500
TZNAME:CDT
DTSTART:20240310T080000
END:DAYLIGHT
BEGIN:STANDARD
TZOFFSETFROM:-0500
TZOFFSETTO:-0600
TZNAME:CST
DTSTART:20241103T070000
END:STANDARD
BEGIN:DAYLIGHT
TZOFFSETFROM:-0600
TZOFFSETTO:-0500
TZNAME:CDT
DTSTART:20250309T080000
END:DAYLIGHT
BEGIN:STANDARD
TZOFFSETFROM:-0500
TZOFFSETTO:-0600
TZNAME:CST
DTSTART:20251102T070000
END:STANDARD
END:VTIMEZONE
BEGIN:VEVENT
DTSTART;TZID=America/Chicago:20240905T080000
DTEND;TZID=America/Chicago:20240905T150000
DTSTAMP:20260422T095927
CREATED:20240906T003518Z
LAST-MODIFIED:20240906T003518Z
UID:10000139-1725523200-1725548400@warriorsrestfoundation.org
SUMMARY:Surviving and Thriving\, First Responder Wellness
DESCRIPTION:This course identifies the biological and emotional reactions to workplace stress\, hypervigilance\, and trauma to illustrate the impact of a First Responders work environment. This course discusses a person’s support foundation upon entering their career and how it has changed both positively and negatively over time. It also explores the effects of job-related trauma and stress\, hypervigilance\, and multiple methods of how to take control of your “off-duty” time. \nThe course is for all disciplines of First Responders (i.e. Firefighter / Law Enforcement / EMS / Communications / First Responder Support Staff\, etc) who may have different assignments and duties during any major events\, or the Cumulative Trauma of multiple smaller events yet still produce the “Common Reactions to Stress and Trauma” which could potentially impact a First Responder and their family members. Resources and various techniques to assist the First Responder in their journey to improve their mental and physical wellness are also provided.\nThere will be three sessions of the class at the times listed. \nCLEET CE 2 Hrs / 2 Hrs Mental Health
URL:https://warriorsrestfoundation.org/event/surviving-and-thriving-first-responder-wellness/
CATEGORIES:Continuing Education,Oklahoma Training,Training
ATTACH;FMTTYPE=image/jpeg:https://warriorsrestfoundation.org/wp-content/uploads/2024/06/3.jpg
END:VEVENT
BEGIN:VEVENT
DTSTART;TZID=America/Chicago:20240911T090000
DTEND;TZID=America/Chicago:20240911T170000
DTSTAMP:20260422T095927
CREATED:20240902T174120Z
LAST-MODIFIED:20240902T174120Z
UID:10000132-1726045200-1726074000@warriorsrestfoundation.org
SUMMARY:Surviving and Thriving Your Career as a 1st Responder
DESCRIPTION:This course identifies the biological and emotional reactions to workplace stress\, hypervigilance\, and trauma to illustrate the impact of a First Responders work environment. This course discusses a person’s support foundation upon entering their career and how it has changed both positively and negatively over time. It also explores the effects of job-related trauma and stress\, hypervigilance\, and multiple methods of how to take control of your “off-duty” time. \nThe course is for all disciplines of First Responders (i.e. Firefighter / Law Enforcement / EMS / Communications / First Responder Support Staff\, etc) who may have different assignments and duties during any major events\, or the Cumulative Trauma of multiple smaller events yet still produce the “Common Reactions to Stress and Trauma” which could potentially impact a First Responder and their family members. Resources and various techniques to assist the First Responder in their journey to improve their mental and physical wellness are also provided. \nCLEET CE 2hrs / 2 Hrs Mental Health
URL:https://warriorsrestfoundation.org/event/surviving-and-thriving-your-career-as-a-1st-responder/
LOCATION:Altus City Council Chamber\, 509 S Main St\, Altus\, OK\, 73521\, United States
CATEGORIES:Continuing Education,Emotional Survival,Oklahoma Training,Training
ATTACH;FMTTYPE=image/jpeg:https://warriorsrestfoundation.org/wp-content/uploads/2024/06/3.jpg
END:VEVENT
BEGIN:VEVENT
DTSTART;TZID=America/Chicago:20240912T090000
DTEND;TZID=America/Chicago:20240912T123000
DTSTAMP:20260422T095927
CREATED:20240902T174923Z
LAST-MODIFIED:20240902T174933Z
UID:10000133-1726131600-1726144200@warriorsrestfoundation.org
SUMMARY:Surviving and Thriving Your Career as a First Responder
DESCRIPTION:This course identifies the biological and emotional reactions to workplace stress\, hypervigilance\, and trauma to illustrate the impact of a First Responders work environment. This course discusses a person’s support foundation upon entering their career and how it has changed both positively and negatively over time. It also explores the effects of job-related trauma and stress\, hypervigilance\, and multiple methods of how to take control of your “off-duty” time. \nThe course is for all disciplines of First Responders (i.e. Firefighter / Law Enforcement / EMS / Communications / First Responder Support Staff\, etc) who may have different assignments and duties during any major events\, or the Cumulative Trauma of multiple smaller events yet still produce the “Common Reactions to Stress and Trauma” which could potentially impact a First Responder and their family members. Resources and various techniques to assist the First Responder in their journey to improve their mental and physical wellness are also provided. \nCLEET CE 2 Hrs / 2 Hrs Mental Health
URL:https://warriorsrestfoundation.org/event/surviving-and-thriving-your-career-as-a-first-responder/
LOCATION:Altus City Council Chamber\, 509 S Main St\, Altus\, OK\, 73521\, United States
CATEGORIES:Continuing Education,Emotional Survival,Oklahoma Training,Training
ATTACH;FMTTYPE=image/jpeg:https://warriorsrestfoundation.org/wp-content/uploads/2024/06/8.jpg
END:VEVENT
BEGIN:VEVENT
DTSTART;TZID=America/Chicago:20240912T130000
DTEND;TZID=America/Chicago:20240912T130000
DTSTAMP:20260422T095927
CREATED:20240902T175204Z
LAST-MODIFIED:20240902T175325Z
UID:10000134-1726146000-1726146000@warriorsrestfoundation.org
SUMMARY:Surviving and Thriving Your Career as a 1st Responder
DESCRIPTION:This course identifies the biological and emotional reactions to workplace stress\, hypervigilance\, and trauma to illustrate the impact of a First Responders work environment. This course discusses a person’s support foundation upon entering their career and how it has changed both positively and negatively over time. It also explores the effects of job-related trauma and stress\, hypervigilance\, and multiple methods of how to take control of your “off-duty” time. \nThe course is for all disciplines of First Responders (i.e. Firefighter / Law Enforcement / EMS / Communications / First Responder Support Staff\, etc) who may have different assignments and duties during any major events\, or the Cumulative Trauma of multiple smaller events yet still produce the “Common Reactions to Stress and Trauma” which could potentially impact a First Responder and their family members. Resources and various techniques to assist the First Responder in their journey to improve their mental and physical wellness are also provided. \nCLEET CE 2 Hrs / 2 Hrs Mental Health
URL:https://warriorsrestfoundation.org/event/surviving-and-thriving-your-career-as-a-1st-responder-2/
LOCATION:Altus City Council Chamber\, 509 S Main St\, Altus\, OK\, 73521\, United States
CATEGORIES:Continuing Education,Emotional Survival,Oklahoma Training,Training
END:VEVENT
BEGIN:VEVENT
DTSTART;TZID=America/Chicago:20240917T080000
DTEND;TZID=America/Chicago:20240917T170000
DTSTAMP:20260422T095927
CREATED:20240918T000221Z
LAST-MODIFIED:20240918T000424Z
UID:10000143-1726560000-1726592400@warriorsrestfoundation.org
SUMMARY:Peer Support - Team Building and Beyond
DESCRIPTION:Prerequisite Course to attend: \nICISF – Assisting Individuals in Crisis & Group Crisis Intervention \nThe goal of this training is to assist First Responder Peer Teams in building sustainable peer teams while maintaining the health of the team and increasing the overall health of their organization. \nObjectives: \nParticipants will gain knowledge through experienced Peer Instructors and/or Mental Health Professionals in assisting in beginning a peer team or adding value to their current team as they identify and implement six strategies for peer team wellness\, including gaining leadership support\, increasing financial support for the team\, learning steps for selecting appropriate peer team members\, increased team resilience\, instruction in common peer team needs\, optimization of team performance\, and utilization of resources. \nMissouri POST 16 Hours
URL:https://warriorsrestfoundation.org/event/peer-support-team-building-and-beyond-2/
LOCATION:UCM Elliott Student Union\, Room #240 – Sandra Temple Ballroom\, 511 S. Holden Street\, Warrensburg\, MO\, 64093\, United States
CATEGORIES:Continuing Education,Missouri Training,Sustaining a Peer Team: Keeping Your Peer Support Team Healthy and Effective,Training
ATTACH;FMTTYPE=image/png:https://warriorsrestfoundation.org/wp-content/uploads/2024/02/Warriors-Rest-Event-Graphics-1.png
END:VEVENT
END:VCALENDAR