BEGIN:VCALENDAR
VERSION:2.0
PRODID:-//Warrior&#039;s Rest Foundation - ECPv6.15.18//NONSGML v1.0//EN
CALSCALE:GREGORIAN
METHOD:PUBLISH
X-WR-CALNAME:Warrior&#039;s Rest Foundation
X-ORIGINAL-URL:https://warriorsrestfoundation.org
X-WR-CALDESC:Events for Warrior&#039;s Rest Foundation
REFRESH-INTERVAL;VALUE=DURATION:PT1H
X-Robots-Tag:noindex
X-PUBLISHED-TTL:PT1H
BEGIN:VTIMEZONE
TZID:America/Chicago
BEGIN:DAYLIGHT
TZOFFSETFROM:-0600
TZOFFSETTO:-0500
TZNAME:CDT
DTSTART:20240310T080000
END:DAYLIGHT
BEGIN:STANDARD
TZOFFSETFROM:-0500
TZOFFSETTO:-0600
TZNAME:CST
DTSTART:20241103T070000
END:STANDARD
BEGIN:DAYLIGHT
TZOFFSETFROM:-0600
TZOFFSETTO:-0500
TZNAME:CDT
DTSTART:20250309T080000
END:DAYLIGHT
BEGIN:STANDARD
TZOFFSETFROM:-0500
TZOFFSETTO:-0600
TZNAME:CST
DTSTART:20251102T070000
END:STANDARD
BEGIN:DAYLIGHT
TZOFFSETFROM:-0600
TZOFFSETTO:-0500
TZNAME:CDT
DTSTART:20260308T080000
END:DAYLIGHT
BEGIN:STANDARD
TZOFFSETFROM:-0500
TZOFFSETTO:-0600
TZNAME:CST
DTSTART:20261101T070000
END:STANDARD
END:VTIMEZONE
BEGIN:VEVENT
DTSTART;TZID=America/Chicago:20250128T080000
DTEND;TZID=America/Chicago:20250129T170000
DTSTAMP:20260421T233219
CREATED:20241001T162251Z
LAST-MODIFIED:20241001T234955Z
UID:10000147-1738051200-1738170000@warriorsrestfoundation.org
SUMMARY:Peer Support – Team Building and Beyond\, Jefferson City\, MO
DESCRIPTION:Prerequisite Course to attend: \nICISF – Assisting Individuals in Crisis & Group Crisis Intervention \nThe goal of this training is to assist First Responder Peer Teams in building sustainable peer teams while maintaining the health of the team and increasing the overall health of their organization. \nObjectives: \nParticipants will gain knowledge through experienced Peer Instructors and/or Mental Health Professionals in assisting in beginning a peer team or adding value to their current team as they identify and implement six strategies for peer team wellness\, including gaining leadership support\, increasing financial support for the team\, learning steps for selecting appropriate peer team members\, increased team resilience\, instruction in common peer team needs\, optimization of team performance\, and utilization of resources. \nMissouri POST 16 Hours
URL:https://warriorsrestfoundation.org/event/peer-support-team-building-and-beyond-jefferson-city-mo/
LOCATION:Jefferson City Police Department – Training Classroom\, 401 Monroe St\, Jefferson City\, MO\, 65101\, United States
CATEGORIES:Continuing Education,Missouri Training,Sustaining a Peer Team: Keeping Your Peer Support Team Healthy and Effective,Training
ATTACH;FMTTYPE=image/png:https://warriorsrestfoundation.org/wp-content/uploads/2024/02/Warriors-Rest-Event-Graphics-1.png
END:VEVENT
END:VCALENDAR