BEGIN:VCALENDAR
VERSION:2.0
PRODID:-//Warrior&#039;s Rest Foundation - ECPv6.15.18//NONSGML v1.0//EN
CALSCALE:GREGORIAN
METHOD:PUBLISH
X-ORIGINAL-URL:https://warriorsrestfoundation.org
X-WR-CALDESC:Events for Warrior&#039;s Rest Foundation
REFRESH-INTERVAL;VALUE=DURATION:PT1H
X-Robots-Tag:noindex
X-PUBLISHED-TTL:PT1H
BEGIN:VTIMEZONE
TZID:America/Chicago
BEGIN:DAYLIGHT
TZOFFSETFROM:-0600
TZOFFSETTO:-0500
TZNAME:CDT
DTSTART:20230312T080000
END:DAYLIGHT
BEGIN:STANDARD
TZOFFSETFROM:-0500
TZOFFSETTO:-0600
TZNAME:CST
DTSTART:20231105T070000
END:STANDARD
BEGIN:DAYLIGHT
TZOFFSETFROM:-0600
TZOFFSETTO:-0500
TZNAME:CDT
DTSTART:20240310T080000
END:DAYLIGHT
BEGIN:STANDARD
TZOFFSETFROM:-0500
TZOFFSETTO:-0600
TZNAME:CST
DTSTART:20241103T070000
END:STANDARD
BEGIN:DAYLIGHT
TZOFFSETFROM:-0600
TZOFFSETTO:-0500
TZNAME:CDT
DTSTART:20250309T080000
END:DAYLIGHT
BEGIN:STANDARD
TZOFFSETFROM:-0500
TZOFFSETTO:-0600
TZNAME:CST
DTSTART:20251102T070000
END:STANDARD
END:VTIMEZONE
BEGIN:VEVENT
DTSTART;TZID=America/Chicago:20241001T080000
DTEND;TZID=America/Chicago:20241003T170000
DTSTAMP:20260420T094734
CREATED:20240627T152157Z
LAST-MODIFIED:20240627T173140Z
UID:10000125-1727769600-1727974800@warriorsrestfoundation.org
SUMMARY:Assisting Individuals in Crisis & Group Crisis Intervention (3-day GRIN Course) O'Fallon\, MO
DESCRIPTION:This 3-day course combines ALL the content of ICISF’s Assisting Individuals in Crisis & Group Crisis Intervention courses. \nCrisis Intervention is NOT psychotherapy; it is a specialized acute emergency mental health intervention requiring specialized training. As physical first aid is to surgery\, crisis intervention is to psychotherapy. Thus\, crisis intervention is sometimes called “emotional first aid.” Designed to present the core elements of a comprehensive\, systematic\, and multi-component crisis intervention curriculum\, this course will prepare participants to understand various crisis intervention services for individuals and groups. Fundamentals of Critical Incident Stress Management (CISM) will be outlined\, and participants will leave with the knowledge and tools to provide several group crisis interventions\, specifically demobilizations\, defusing\, and Critical Incident Stress Debriefing (CISD). The need for appropriate follow-up services and referrals\, when necessary\, will also be discussed. \n27 hours of MO POST
URL:https://warriorsrestfoundation.org/event/assisting-individuals-in-crisis-group-crisis-intervention-3-day-grin-course-ofallon-mo-2/
LOCATION:St. Charles County Police Department\, 101 Sheriff Dierker Court\, O'Fallon\, MO\, 63366\, United States
CATEGORIES:Assisting Individuals in Crisis & Group Crisis Intervention (GRIN),ICISF,Missouri Training,Training
END:VEVENT
BEGIN:VEVENT
DTSTART;TZID=America/Chicago:20241007T080000
DTEND;TZID=America/Chicago:20241008T170000
DTSTAMP:20260420T094734
CREATED:20240902T181027Z
LAST-MODIFIED:20240903T134521Z
UID:10000135-1728288000-1728406800@warriorsrestfoundation.org
SUMMARY:ASSISTING INDIVIDUALS in CRISIS / Peer Support (Durant\, OK #1)
DESCRIPTION:ASSISTING INDIVIDUALS in CRISIS is PHASE 1 of the process to become a trained “Peer Support Responder”. This is a 2-day course of “Initial Peer Support Training” / Critical Incident Stress Management (CISM) that is intermixed with additional wellness topics for new Peer Support members. This course is the foundation which prepares the student to provide Peer Support and Critical Incident Stress Management (CISM) interventions (if needed) during Individual or “1 on 1” interactions. The need for appropriate follow-up services and referrals post-incident\, when necessary\, will also be discussed during this training. \nThis course is designed for First Responders and Mental Health Professionals who assist other First Responders and their families in dealing with job-related Stress and Trauma. \nCLEET CE 16 hr and 2 hr MH \n(NOTE: Prerequisite for Group Crisis Intervention training which is TO BE PROVIDED LATER in this region is the course titled\, Assisting Individuals in Crisis.) \nATTENTION: Due to the frequent requests for this training\, PLEASE notify us if you register for this class but your schedules change\, and you are Not able to attend. This allows us to contact people who may be on a “Waiting List”. Thank You.
URL:https://warriorsrestfoundation.org/event/assisting-individuals-in-crisis-peer-support-durant-ok-1/
LOCATION:Durant Regional Emergency Operations Center\, Durant Regional EOC\, 5861 Cessna Drive\, 74701\, United States
CATEGORIES:Assisting Individuals in Crisis,ICISF,Oklahoma Training,Training
ATTACH;FMTTYPE=image/jpeg:https://warriorsrestfoundation.org/wp-content/uploads/2023/03/3.jpg
END:VEVENT
BEGIN:VEVENT
DTSTART;TZID=America/Chicago:20241009T080000
DTEND;TZID=America/Chicago:20241010T170000
DTSTAMP:20260420T094734
CREATED:20240902T182633Z
LAST-MODIFIED:20240903T134330Z
UID:10000136-1728460800-1728579600@warriorsrestfoundation.org
SUMMARY:ASSISTING INDIVIDUALS in CRISIS / Peer Support (Durant\, OK #2)
DESCRIPTION:ASSISTING INDIVIDUALS in CRISIS is PHASE 1 of the process to become a trained “Peer Support Responder”. This is a 2-day course of “Initial Peer Support Training” / Critical Incident Stress Management (CISM) that is intermixed with additional wellness topics for new Peer Support members. This course is the foundation which prepares the student to provide Peer Support and Critical Incident Stress Management (CISM) interventions (if needed) during Individual or “1 on 1” interactions. The need for appropriate follow-up services and referrals post-incident\, when necessary\, will also be discussed during this training. \nThis course is designed for First Responders and Mental Health Professionals who assist other First Responders and their families in dealing with job-related Stress and Trauma. \nCLEET CE 16 hr and 2 hr MH \n(NOTE: Prerequisite for Group Crisis Intervention training which is TO BE PROVIDED LATER in this region is the course titled\, Assisting Individuals in Crisis.) \nATTENTION: Due to the frequent requests for this training\, PLEASE notify us if you register for this class but your schedules change\, and you are Not able to attend. This allows us to contact people who may be on a “Waiting List”. Thank You.
URL:https://warriorsrestfoundation.org/event/assisting-individuals-in-crisis-peer-support-durant-ok-2/
LOCATION:Durant Regional Emergency Operations Center\, Durant Regional EOC\, 5861 Cessna Drive\, 74701\, United States
CATEGORIES:Assisting Individuals in Crisis,ICISF,Oklahoma Training,Training
ATTACH;FMTTYPE=image/jpeg:https://warriorsrestfoundation.org/wp-content/uploads/2023/03/3.jpg
ORGANIZER;CN="Gary Isbell":MAILTO:Isbell171@gmail.com
END:VEVENT
BEGIN:VEVENT
DTSTART;TZID=America/Chicago:20241021T080000
DTEND;TZID=America/Chicago:20241022T170000
DTSTAMP:20260420T094734
CREATED:20240903T172535Z
LAST-MODIFIED:20240903T172616Z
UID:10000137-1729497600-1729616400@warriorsrestfoundation.org
SUMMARY:ASSISTING INDIVIDUALS in CRISIS / Peer Support (OKC\, OK)
DESCRIPTION:ASSISTING INDIVIDUALS in CRISIS is PHASE 1 of the process to become a trained “Peer Support Responder”. This is a 2-day course of “Initial Peer Support Training” / Critical Incident Stress Management (CISM) that is intermixed with additional wellness topics for new Peer Support members. This course is the foundation which prepares the student to provide Peer Support and Critical Incident Stress Management (CISM) interventions (if needed) during Individual or “1 on 1” interactions. The need for appropriate follow-up services and referrals post-incident\, when necessary\, will also be discussed during this training. \nThis course is designed for First Responders and Mental Health Professionals who assist other First Responders and their families in dealing with job-related Stress and Trauma. \nCLEET CE 16 hr and 2 hr MH \n(NOTE: Prerequisite for Group Crisis Intervention training which is to be provided later this same week is the course titled\, Assisting Individuals in Crisis. Registration for each specific course is required.) \nATTENTION: Due to the frequent requests for this training\, PLEASE notify us if you register for this class but your schedules change\, and you are Not able to attend. This allows us to contact people who may be on a “Waiting List”. Thank You.
URL:https://warriorsrestfoundation.org/event/assisting-individuals-in-crisis-peer-support-okc-ok/
LOCATION:Oklahoma Center for Nonprofits\, 701 N. Lindsay Ave\, Oklahoma City\, OK\, 73104\, United States
CATEGORIES:Assisting Individuals in Crisis,ICISF,Oklahoma Training,Training
ATTACH;FMTTYPE=image/jpeg:https://warriorsrestfoundation.org/wp-content/uploads/2023/03/3.jpg
END:VEVENT
BEGIN:VEVENT
DTSTART;TZID=America/Chicago:20241021T080000
DTEND;TZID=America/Chicago:20241023T170000
DTSTAMP:20260420T094734
CREATED:20240813T200901Z
LAST-MODIFIED:20240813T200924Z
UID:10000129-1729497600-1729702800@warriorsrestfoundation.org
SUMMARY:Assisting Individuals in Crisis & Group Crisis Intervention (3-day GRIN Course) Frontenac\, MO
DESCRIPTION:This 3-day course combines ALL the content of ICISF’s Assisting Individuals in Crisis & Group Crisis Intervention courses. \nCrisis Intervention is NOT psychotherapy; it is a specialized acute emergency mental health intervention requiring specialized training. As physical first aid is to surgery\, crisis intervention is to psychotherapy. Thus\, crisis intervention is sometimes called “emotional first aid.” Designed to present the core elements of a comprehensive\, systematic\, and multi-component crisis intervention curriculum\, this course will prepare participants to understand various crisis intervention services for individuals and groups. Fundamentals of Critical Incident Stress Management (CISM) will be outlined\, and participants will leave with the knowledge and tools to provide several group crisis interventions\, specifically demobilizations\, defusing\, and Critical Incident Stress Debriefing (CISD). The need for appropriate follow-up services and referrals\, when necessary\, will also be discussed. \n27 Hours MO POST
URL:https://warriorsrestfoundation.org/event/assisting-individuals-in-crisis-group-crisis-intervention-3-day-grin-course-frontenac-mo/
LOCATION:Frontenac Fire Department\, 10555 Clayton Rd\, Frontenac\, MO\, 63131\, United States
CATEGORIES:Assisting Individuals in Crisis & Group Crisis Intervention (GRIN),ICISF,Missouri Training
ATTACH;FMTTYPE=image/jpeg:https://warriorsrestfoundation.org/wp-content/uploads/2022/12/4.jpg
END:VEVENT
BEGIN:VEVENT
DTSTART;TZID=America/Chicago:20241023T080000
DTEND;TZID=America/Chicago:20241024T170000
DTSTAMP:20260420T094734
CREATED:20240903T185010Z
LAST-MODIFIED:20240903T192934Z
UID:10000138-1729670400-1729789200@warriorsrestfoundation.org
SUMMARY:Group Crisis Intervention / Peer Support (OKC\, OK)
DESCRIPTION:GROUP CRISIS INTERVENTION is PHASE 2 of the “Initial Peer Support Training” in Critical Incident Stress Management (CISM) and is a 2-day course which prepares the Peer to provide CISM interventions of Critical Incident Stress Debriefings (CISD)\, Defusing\, Crisis Management Briefings (CMB)\, and other strategies useful in Group situations. \nThe need for appropriate follow-up services and referrals post-incident\, when necessary\, will also be discussed during these training courses. \nThis course is designed for Oklahoma First Responders and Mental Health Professionals who assist other First Responders and their families in dealing with job-related Stress and Trauma. \n(NOTE: Prerequisite to attend this Group Crisis Intervention training is a 2-day CISM course titled Assisting Individuals in Crisis. REGISTRATION FOR EACH SPECIFIC COURSE IS REQUIRED if planning to attend both scheduled courses.) \nCLEET CE 16 hr. and 2 hr. MH \nATTENTION: PLEASE notify us if you register for the training but are Not able to attend so we can contact people on a “Waiting List”. Thank You.
URL:https://warriorsrestfoundation.org/event/group-crisis-intervention-peer-support-okc-ok/
LOCATION:Oklahoma Center for Nonprofits\, 701 N. Lindsay Ave\, Oklahoma City\, OK\, 73104\, United States
CATEGORIES:Assisting Individuals in Crisis,ICISF,Oklahoma Training,Training
ATTACH;FMTTYPE=image/jpeg:https://warriorsrestfoundation.org/wp-content/uploads/2023/03/3.jpg
END:VEVENT
END:VCALENDAR