BEGIN:VCALENDAR
VERSION:2.0
PRODID:-//Warrior&#039;s Rest Foundation - ECPv6.15.18//NONSGML v1.0//EN
CALSCALE:GREGORIAN
METHOD:PUBLISH
X-WR-CALNAME:Warrior&#039;s Rest Foundation
X-ORIGINAL-URL:https://warriorsrestfoundation.org
X-WR-CALDESC:Events for Warrior&#039;s Rest Foundation
REFRESH-INTERVAL;VALUE=DURATION:PT1H
X-Robots-Tag:noindex
X-PUBLISHED-TTL:PT1H
BEGIN:VTIMEZONE
TZID:America/Chicago
BEGIN:DAYLIGHT
TZOFFSETFROM:-0600
TZOFFSETTO:-0500
TZNAME:CDT
DTSTART:20240310T080000
END:DAYLIGHT
BEGIN:STANDARD
TZOFFSETFROM:-0500
TZOFFSETTO:-0600
TZNAME:CST
DTSTART:20241103T070000
END:STANDARD
BEGIN:DAYLIGHT
TZOFFSETFROM:-0600
TZOFFSETTO:-0500
TZNAME:CDT
DTSTART:20250309T080000
END:DAYLIGHT
BEGIN:STANDARD
TZOFFSETFROM:-0500
TZOFFSETTO:-0600
TZNAME:CST
DTSTART:20251102T070000
END:STANDARD
BEGIN:DAYLIGHT
TZOFFSETFROM:-0600
TZOFFSETTO:-0500
TZNAME:CDT
DTSTART:20260308T080000
END:DAYLIGHT
BEGIN:STANDARD
TZOFFSETFROM:-0500
TZOFFSETTO:-0600
TZNAME:CST
DTSTART:20261101T070000
END:STANDARD
END:VTIMEZONE
BEGIN:VEVENT
DTSTART;TZID=America/Chicago:20250114T080000
DTEND;TZID=America/Chicago:20250116T170000
DTSTAMP:20260420T050044
CREATED:20240917T234330Z
LAST-MODIFIED:20240918T212722Z
UID:10000141-1736841600-1737046800@warriorsrestfoundation.org
SUMMARY:Assisting Individuals in Crisis & Group Crisis Intervention (3-day GRIN Course) Shell Knob\, MO
DESCRIPTION:This 3-day course combines ALL the content of ICISF’s Assisting Individuals in Crisis & Group Crisis Intervention courses. \nCrisis Intervention is NOT psychotherapy; rather\, it is a specialized acute emergency mental health intervention which requires specialized training. As physical first aid is to surgery\, crisis intervention is to psychotherapy. Thus\, crisis intervention is sometimes called “emotional first aid”. Designed to present the core elements of a comprehensive\, systematic\, and multi-component crisis intervention curriculum\, this course will prepare participants to understand a wide range of crisis intervention services for both the individual and for groups. Fundamentals of Critical Incident Stress Management (CISM) will be outlined\, and participants will leave with the knowledge and tools to provide several group crisis interventions\, specifically demobilizations\, defusing’s\, and the Critical Incident Stress Debriefing (CISD). The need for appropriate follow-up services and referrals\, when necessary\, will also be discussed. \nThis course is designed for anyone in the fields of Business & Industry Crisis Intervention\, Disaster Response\, Education\, Emergency Services\, Employee Assistance\, Healthcare\, Homeland Security\, Mental Health\, Military\, Spiritual Care\, and Traumatic Stress. \n27 Hours MO POST
URL:https://warriorsrestfoundation.org/event/assisting-individuals-in-crisis-group-crisis-intervention-3-day-grin-course-shell-knob-mo/
LOCATION:Central Crossing Fire Protection District\, 23463 MO 39\, Shell Knob\, MO\, 65747\, United States
CATEGORIES:Assisting Individuals in Crisis & Group Crisis Intervention (GRIN),ICISF,Missouri Training,Training
ATTACH;FMTTYPE=image/jpeg:https://warriorsrestfoundation.org/wp-content/uploads/2022/12/4.jpg
END:VEVENT
BEGIN:VEVENT
DTSTART;TZID=America/Chicago:20250121T080000
DTEND;TZID=America/Chicago:20250122T170000
DTSTAMP:20260420T050044
CREATED:20241206T183958Z
LAST-MODIFIED:20241206T183958Z
UID:10000157-1737446400-1737565200@warriorsrestfoundation.org
SUMMARY:ASSISTING INDIVIDUALS in CRISIS / Peer Support (ANTLERS\, OK)
DESCRIPTION:ASSISTING INDIVIDUALS in CRISIS is PHASE 1 of the process to become a trained “Peer Support Responder”. This is a 2-day course of “Initial Peer Support Training” / Critical Incident Stress Management (CISM) that is intermixed with additional wellness topics for new Peer Support members. This course is the foundation which prepares the student to provide Peer Support and Critical Incident Stress Management (CISM) interventions (if needed) during Individual or “1 on 1” interactions. The need for appropriate follow-up services and referrals post-incident\, when necessary\, will also be discussed during this training. \nThis course is designed for First Responders and Mental Health Professionals who assist other First Responders and their families in dealing with job-related Stress and Trauma. \nCLEET CE 16 hr and 6 hr MH \n(NOTE: Prerequisite for PHASE 2 – GROUP CRISIS INTERVENTION training\, which is to be provided in this same area later in 2025\, is a PHASE 1 course titled\, Assisting Individuals in Crisis.) \nATTENTION: Due to the frequent requests for this training\, PLEASE notify us if you register for this class but your schedules change\, and you are Not able to attend. This allows us to contact people who may be on a “Waiting List”. Thank You.
URL:https://warriorsrestfoundation.org/event/assisting-individuals-in-crisis-peer-support-antlers-ok/
LOCATION:Kiamichi Technology Center – Antlers Campus\, 405 SW O\, Antlers\, OK\, 74523\, United States
CATEGORIES:Assisting Individuals in Crisis,ICISF,Oklahoma Training,Training
END:VEVENT
BEGIN:VEVENT
DTSTART;TZID=America/Chicago:20250128T080000
DTEND;TZID=America/Chicago:20250130T170000
DTSTAMP:20260420T050044
CREATED:20240917T232641Z
LAST-MODIFIED:20240919T190052Z
UID:10000140-1738051200-1738256400@warriorsrestfoundation.org
SUMMARY:Assisting Individuals in Crisis & Group Crisis Intervention (3-day GRIN Course) Kansas City\, MO
DESCRIPTION:This 3-day course combines ALL the content of ICISF’s Assisting Individuals in Crisis & Group Crisis Intervention courses. \nCrisis Intervention is NOT psychotherapy; rather\, it is a specialized acute emergency mental health intervention which requires specialized training. As physical first aid is to surgery\, crisis intervention is to psychotherapy. Thus\, crisis intervention is sometimes called “emotional first aid”. Designed to present the core elements of a comprehensive\, systematic\, and multi-component crisis intervention curriculum\, this course will prepare participants to understand a wide range of crisis intervention services for both the individual and for groups. Fundamentals of Critical Incident Stress Management (CISM) will be outlined\, and participants will leave with the knowledge and tools to provide several group crisis interventions\, specifically demobilizations\, defusing’s\, and the Critical Incident Stress Debriefing (CISD). The need for appropriate follow-up services and referrals\, when necessary\, will also be discussed. \nThis course is designed for anyone in the fields of Business & Industry Crisis Intervention\, Disaster Response\, Education\, Emergency Services\, Employee Assistance\, Healthcare\, Homeland Security\, Mental Health\, Military\, Spiritual Care\, and Traumatic Stress. \n27 Hours MO POST
URL:https://warriorsrestfoundation.org/event/assisting-individuals-in-crisis-group-crisis-intervention-3-day-grin-course-kansas-city-mo/
LOCATION:Regional Police Training Academy\, 6885 NE Pleasant Valley Rd.\, Kansas City\, MO\, 64119\, United States
CATEGORIES:Assisting Individuals in Crisis & Group Crisis Intervention (GRIN),ICISF,Missouri Training,Post Critical Incident Seminar,Training
ATTACH;FMTTYPE=image/jpeg:https://warriorsrestfoundation.org/wp-content/uploads/2022/12/4.jpg
END:VEVENT
END:VCALENDAR