BEGIN:VCALENDAR
VERSION:2.0
PRODID:-//Warrior&#039;s Rest Foundation - ECPv6.15.18//NONSGML v1.0//EN
CALSCALE:GREGORIAN
METHOD:PUBLISH
X-ORIGINAL-URL:https://warriorsrestfoundation.org
X-WR-CALDESC:Events for Warrior&#039;s Rest Foundation
REFRESH-INTERVAL;VALUE=DURATION:PT1H
X-Robots-Tag:noindex
X-PUBLISHED-TTL:PT1H
BEGIN:VTIMEZONE
TZID:America/Chicago
BEGIN:DAYLIGHT
TZOFFSETFROM:-0600
TZOFFSETTO:-0500
TZNAME:CDT
DTSTART:20240310T080000
END:DAYLIGHT
BEGIN:STANDARD
TZOFFSETFROM:-0500
TZOFFSETTO:-0600
TZNAME:CST
DTSTART:20241103T070000
END:STANDARD
BEGIN:DAYLIGHT
TZOFFSETFROM:-0600
TZOFFSETTO:-0500
TZNAME:CDT
DTSTART:20250309T080000
END:DAYLIGHT
BEGIN:STANDARD
TZOFFSETFROM:-0500
TZOFFSETTO:-0600
TZNAME:CST
DTSTART:20251102T070000
END:STANDARD
BEGIN:DAYLIGHT
TZOFFSETFROM:-0600
TZOFFSETTO:-0500
TZNAME:CDT
DTSTART:20260308T080000
END:DAYLIGHT
BEGIN:STANDARD
TZOFFSETFROM:-0500
TZOFFSETTO:-0600
TZNAME:CST
DTSTART:20261101T070000
END:STANDARD
END:VTIMEZONE
BEGIN:VEVENT
DTSTART;TZID=America/Chicago:20250602T080000
DTEND;TZID=America/Chicago:20250603T170000
DTSTAMP:20260419T203523
CREATED:20250422T155157Z
LAST-MODIFIED:20250422T155157Z
UID:10000182-1748851200-1748970000@warriorsrestfoundation.org
SUMMARY:ASSISTING INDIVIDUALS in CRISIS / Peer Support (Ponca City\, OK)
DESCRIPTION:ASSISTING INDIVIDUALS in CRISIS is PHASE 1 of the process to become a trained “Peer Support Responder”. This is a 2-day course of “Initial Peer Support Training” / Critical Incident Stress Management (CISM) that is intermixed with additional wellness topics for new Peer Support members. This course is the foundation which prepares the student to provide Peer Support and Critical Incident Stress Management (CISM) interventions (if needed) during Individual or “1 on 1” interactions. The need for appropriate follow-up services and referrals post-incident\, when necessary\, will also be discussed during this training. \nThis course is designed for First Responders and Mental Health Professionals who assist other First Responders and their families in dealing with job-related Stress and Trauma. \nCLEET CE 16 hr and 8 hr MH \nATTENTION: Due to the frequent requests for this training\, PLEASE notify us if you register for this class but your schedules change\, and you are Not able to attend. This allows us to contact people who may be on a “Waiting List”. Thank You.
URL:https://warriorsrestfoundation.org/event/assisting-individuals-in-crisis-peer-support-ponca-city-ok/
LOCATION:Pioneer Technology Center – Seminar Center\, 2201 N. Ash St.\, Ponca City\, OK\, 74604\, United States
CATEGORIES:Assisting Individuals in Crisis,ICISF,Oklahoma Training,Training
ORGANIZER;CN="Warrior's Rest Foundation":MAILTO:christina@warriorsrestfoundation.org
END:VEVENT
BEGIN:VEVENT
DTSTART;TZID=America/Chicago:20250602T080000
DTEND;TZID=America/Chicago:20250604T170000
DTSTAMP:20260419T203523
CREATED:20250303T155414Z
LAST-MODIFIED:20250303T162406Z
UID:10000172-1748851200-1749056400@warriorsrestfoundation.org
SUMMARY:Assisting Individuals in Crisis & Group Crisis Intervention (3-day GRIN Course) Branson\, MO
DESCRIPTION:This 3-day course combines ALL the content of ICISF’s Assisting Individuals in Crisis & Group Crisis Intervention courses. \nCrisis Intervention is NOT psychotherapy; it is a specialized acute emergency mental health intervention requiring specialized training. As physical first aid is to surgery\, crisis intervention is to psychotherapy. Thus\, crisis intervention is sometimes called “emotional first aid.” Designed to present the core elements of a comprehensive\, systematic\, and multi-component crisis intervention curriculum\, this course will prepare participants to understand various crisis intervention services for individuals and groups. Fundamentals of Critical Incident Stress Management (CISM) will be outlined\, and participants will leave with the knowledge and tools to provide several group crisis interventions\, specifically demobilizations\, defusing\, and Critical Incident Stress Debriefing (CISD). The need for appropriate follow-up services and referrals\, when necessary\, will also be discussed. \n27 Hours of MO POST
URL:https://warriorsrestfoundation.org/event/assisting-individuals-in-crisis-group-crisis-intervention-3-day-grin-course-branson-mo/
LOCATION:Branson Chamber of Commerce and CVB Building\, 4100 Gretna Rd.\, Branson\, 65616\, United States
CATEGORIES:Assisting Individuals in Crisis & Group Crisis Intervention (GRIN),ICISF,Missouri Training,Training
ATTACH;FMTTYPE=image/jpeg:https://warriorsrestfoundation.org/wp-content/uploads/2022/12/4.jpg
ORGANIZER;CN="Tanner Muckenthaler":MAILTO:tmuckenthaler@bransonmo.gov
END:VEVENT
BEGIN:VEVENT
DTSTART;TZID=America/Chicago:20250602T080000
DTEND;TZID=America/Chicago:20250604T170000
DTSTAMP:20260419T203523
CREATED:20250416T171109Z
LAST-MODIFIED:20250416T171109Z
UID:10000179-1748851200-1749056400@warriorsrestfoundation.org
SUMMARY:Assisting Individuals in Crisis & Group Crisis Intervention (3-day GRIN Course) Creve Coeur\, MO
DESCRIPTION:This 3-day course combines ALL the content of ICISF’s Assisting Individuals in Crisis & Group Crisis Intervention courses. \nCrisis Intervention is NOT psychotherapy; it is a specialized acute emergency mental health intervention requiring specialized training. As physical first aid is to surgery\, crisis intervention is to psychotherapy. Thus\, crisis intervention is sometimes called “emotional first aid.” Designed to present the core elements of a comprehensive\, systematic\, and multi-component crisis intervention curriculum\, this course will prepare participants to understand various crisis intervention services for individuals and groups. Fundamentals of Critical Incident Stress Management (CISM) will be outlined\, and participants will leave with the knowledge and tools to provide several group crisis interventions\, specifically demobilizations\, defusing\, and Critical Incident Stress Debriefing (CISD). The need for appropriate follow-up services and referrals\, when necessary\, will also be discussed. \n27 Hours of MO POST
URL:https://warriorsrestfoundation.org/event/assisting-individuals-in-crisis-group-crisis-intervention-3-day-grin-course-creve-coeur-mo/
LOCATION:Creve Coeur Police Department Training Room\, 350 North New Ballas Road\, Creve Coeur\, MO\, 63141\, United States
CATEGORIES:Assisting Individuals in Crisis & Group Crisis Intervention (GRIN),ICISF,Missouri Training,Training
ATTACH;FMTTYPE=image/jpeg:https://warriorsrestfoundation.org/wp-content/uploads/2022/12/4.jpg
END:VEVENT
END:VCALENDAR