BEGIN:VCALENDAR
VERSION:2.0
PRODID:-//Warrior&#039;s Rest Foundation - ECPv6.15.18//NONSGML v1.0//EN
CALSCALE:GREGORIAN
METHOD:PUBLISH
X-WR-CALNAME:Warrior&#039;s Rest Foundation
X-ORIGINAL-URL:https://warriorsrestfoundation.org
X-WR-CALDESC:Events for Warrior&#039;s Rest Foundation
REFRESH-INTERVAL;VALUE=DURATION:PT1H
X-Robots-Tag:noindex
X-PUBLISHED-TTL:PT1H
BEGIN:VTIMEZONE
TZID:America/Chicago
BEGIN:DAYLIGHT
TZOFFSETFROM:-0600
TZOFFSETTO:-0500
TZNAME:CDT
DTSTART:20240310T080000
END:DAYLIGHT
BEGIN:STANDARD
TZOFFSETFROM:-0500
TZOFFSETTO:-0600
TZNAME:CST
DTSTART:20241103T070000
END:STANDARD
BEGIN:DAYLIGHT
TZOFFSETFROM:-0600
TZOFFSETTO:-0500
TZNAME:CDT
DTSTART:20250309T080000
END:DAYLIGHT
BEGIN:STANDARD
TZOFFSETFROM:-0500
TZOFFSETTO:-0600
TZNAME:CST
DTSTART:20251102T070000
END:STANDARD
BEGIN:DAYLIGHT
TZOFFSETFROM:-0600
TZOFFSETTO:-0500
TZNAME:CDT
DTSTART:20260308T080000
END:DAYLIGHT
BEGIN:STANDARD
TZOFFSETFROM:-0500
TZOFFSETTO:-0600
TZNAME:CST
DTSTART:20261101T070000
END:STANDARD
END:VTIMEZONE
BEGIN:VEVENT
DTSTART;VALUE=DATE:20251008
DTEND;VALUE=DATE:20251009
DTSTAMP:20260419T132138
CREATED:20250924T142207Z
LAST-MODIFIED:20250924T142207Z
UID:10000197-1759881600-1759967999@warriorsrestfoundation.org
SUMMARY:Surviving and Thriving A Career As A First Responder (Durant)
DESCRIPTION:This course discusses the common reactions to workplace stress and trauma to illustrate the pitfalls of the First Responder work environment. We will review the effects of job related trauma and the cumulative toll those stressors can have as well as how to take control of your “off-duty” time. \nAll first responders\, clinicians\, chaplains\, spouse/significant others are invited to attend. \nThere will be three sessions to choose from: 0600-0800\, 1400-1600\, 1800-2000 \nCLEET CE 2 hr. and 2 hr. MH \n 
URL:https://warriorsrestfoundation.org/event/surviving-and-thriving-a-career-as-a-first-responder-durant/
LOCATION:Durant PD -Training Rm\, 3104 Carl Albert Dr\, Durnat\, OK\, 74701
CATEGORIES:Continuing Education,ICISF,Oklahoma Training,Training
ORGANIZER;CN="Warrior's Rest Foundation":MAILTO:christina@warriorsrestfoundation.org
END:VEVENT
BEGIN:VEVENT
DTSTART;VALUE=DATE:20251009
DTEND;VALUE=DATE:20251010
DTSTAMP:20260419T132138
CREATED:20250924T142343Z
LAST-MODIFIED:20250924T142343Z
UID:10000198-1759968000-1760054399@warriorsrestfoundation.org
SUMMARY:Surviving and Thriving A Career As A First Responder (Durant)
DESCRIPTION:This course discusses the common reactions to workplace stress and trauma to illustrate the pitfalls of the First Responder work environment. We will review the effects of job related trauma and the cumulative toll those stressors can have as well as how to take control of your “off-duty” time. \nAll first responders\, clinicians\, chaplains\, spouse/significant others are invited to attend. \nThere will be three sessions to choose from: 0600-0800\, 1400-1600\, 1800-2000 \nCLEET CE 2 hr. and 2 hr. MH \n 
URL:https://warriorsrestfoundation.org/event/surviving-and-thriving-a-career-as-a-first-responder-durant-2/
LOCATION:Durant PD -Training Rm\, 3104 Carl Albert Dr\, Durnat\, OK\, 74701
CATEGORIES:Continuing Education,ICISF,Oklahoma Training,Training
ORGANIZER;CN="Warrior's Rest Foundation":MAILTO:christina@warriorsrestfoundation.org
END:VEVENT
BEGIN:VEVENT
DTSTART;TZID=America/Chicago:20251021T080000
DTEND;TZID=America/Chicago:20251023T170000
DTSTAMP:20260419T132138
CREATED:20250909T135500Z
LAST-MODIFIED:20250909T135500Z
UID:10000196-1761033600-1761238800@warriorsrestfoundation.org
SUMMARY:Assisting Individuals in Crisis & Group Crisis Intervention (3-day GRIN Course) Rolla\, MO
DESCRIPTION:This 3-day course combines ALL the content of ICISF’s Assisting Individuals in Crisis & Group Crisis Intervention courses. \nCrisis Intervention is NOT psychotherapy; it is a specialized acute emergency mental health intervention requiring specialized training. As physical first aid is to surgery\, crisis intervention is to psychotherapy. Thus\, crisis intervention is sometimes called “emotional first aid.” Designed to present the core elements of a comprehensive\, systematic\, and multi-component crisis intervention curriculum\, this course will prepare participants to understand various crisis intervention services for individuals and groups. Fundamentals of Critical Incident Stress Management (CISM) will be outlined\, and participants will leave with the knowledge and tools to provide several group crisis interventions\, specifically demobilizations\, defusing\, and Critical Incident Stress Debriefing (CISD). The need for appropriate follow-up services and referrals\, when necessary\, will also be discussed. \n27 Hours of MO POST
URL:https://warriorsrestfoundation.org/event/assisting-individuals-in-crisis-group-crisis-intervention-3-day-grin-course-rolla-mo/
LOCATION:Phelps County Sheriff’s Dept\, 500 W 2nd St\, Rolla\, Missouri\, 65401
CATEGORIES:Assisting Individuals in Crisis & Group Crisis Intervention (GRIN),ICISF,Missouri Training,Training
ATTACH;FMTTYPE=image/jpeg:https://warriorsrestfoundation.org/wp-content/uploads/2022/12/4.jpg
ORGANIZER;CN="Warrior's Rest":MAILTO:Matt@warriorsrestfoundation.org
END:VEVENT
BEGIN:VEVENT
DTSTART;TZID=America/Chicago:20251027T080000
DTEND;TZID=America/Chicago:20251029T170000
DTSTAMP:20260419T132138
CREATED:20250819T164531Z
LAST-MODIFIED:20250819T164531Z
UID:10000193-1761552000-1761757200@warriorsrestfoundation.org
SUMMARY:Assisting Individuals in Crisis & Group Crisis Intervention (3-day GRIN Course) Jefferson City\, MO
DESCRIPTION:This 3-day course combines ALL the content of ICISF’s Assisting Individuals in Crisis & Group Crisis Intervention courses. \nCrisis Intervention is NOT psychotherapy; it is a specialized acute emergency mental health intervention requiring specialized training. As physical first aid is to surgery\, crisis intervention is to psychotherapy. Thus\, crisis intervention is sometimes called “emotional first aid.” Designed to present the core elements of a comprehensive\, systematic\, and multi-component crisis intervention curriculum\, this course will prepare participants to understand various crisis intervention services for individuals and groups. Fundamentals of Critical Incident Stress Management (CISM) will be outlined\, and participants will leave with the knowledge and tools to provide several group crisis interventions\, specifically demobilizations\, defusing\, and Critical Incident Stress Debriefing (CISD). The need for appropriate follow-up services and referrals\, when necessary\, will also be discussed. \n27 Hours of MO POST
URL:https://warriorsrestfoundation.org/event/assisting-individuals-in-crisis-group-crisis-intervention-3-day-grin-course-jefferson-city-mo/
LOCATION:Jefferson City Police Department – Training Room\, 401 Monroe St\, Jefferson City\, MO\, 65101\, United States
CATEGORIES:Assisting Individuals in Crisis & Group Crisis Intervention (GRIN),ICISF,Missouri Training,Training
ATTACH;FMTTYPE=image/jpeg:https://warriorsrestfoundation.org/wp-content/uploads/2022/12/4.jpg
ORGANIZER;CN="Warrior's Rest":MAILTO:Matt@warriorsrestfoundation.org
END:VEVENT
END:VCALENDAR