BEGIN:VCALENDAR
VERSION:2.0
PRODID:-//Warrior&#039;s Rest Foundation - ECPv6.15.18//NONSGML v1.0//EN
CALSCALE:GREGORIAN
METHOD:PUBLISH
X-ORIGINAL-URL:https://warriorsrestfoundation.org
X-WR-CALDESC:Events for Warrior&#039;s Rest Foundation
REFRESH-INTERVAL;VALUE=DURATION:PT1H
X-Robots-Tag:noindex
X-PUBLISHED-TTL:PT1H
BEGIN:VTIMEZONE
TZID:America/Chicago
BEGIN:DAYLIGHT
TZOFFSETFROM:-0600
TZOFFSETTO:-0500
TZNAME:CDT
DTSTART:20240310T080000
END:DAYLIGHT
BEGIN:STANDARD
TZOFFSETFROM:-0500
TZOFFSETTO:-0600
TZNAME:CST
DTSTART:20241103T070000
END:STANDARD
BEGIN:DAYLIGHT
TZOFFSETFROM:-0600
TZOFFSETTO:-0500
TZNAME:CDT
DTSTART:20250309T080000
END:DAYLIGHT
BEGIN:STANDARD
TZOFFSETFROM:-0500
TZOFFSETTO:-0600
TZNAME:CST
DTSTART:20251102T070000
END:STANDARD
BEGIN:DAYLIGHT
TZOFFSETFROM:-0600
TZOFFSETTO:-0500
TZNAME:CDT
DTSTART:20260308T080000
END:DAYLIGHT
BEGIN:STANDARD
TZOFFSETFROM:-0500
TZOFFSETTO:-0600
TZNAME:CST
DTSTART:20261101T070000
END:STANDARD
END:VTIMEZONE
BEGIN:VEVENT
DTSTART;TZID=America/Chicago:20251105T080000
DTEND;TZID=America/Chicago:20251106T170000
DTSTAMP:20260419T114211
CREATED:20251003T194313Z
LAST-MODIFIED:20251003T194313Z
UID:10000201-1762329600-1762448400@warriorsrestfoundation.org
SUMMARY:ASSISTING INDIVIDUALS in CRISIS / Peer Support (Oklahoma City)
DESCRIPTION:ASSISTING INDIVIDUALS in CRISIS is PHASE 1 of the process to become a trained “Peer Support Responder”. This course is the foundation which prepares the student to provide Peer Support and CISM interventions (if needed) during Individual or “1 on 1” interactions with other First Responders. The need for appropriate follow-up services and referrals post-incident\, when necessary\, will also be discussed during this training. \nThis course is designed for First Responders and Mental Health Professionals who assist other First Responders and their families in dealing with job-related Stress and Trauma. \nCLEET CE 16 hr and 8 hr MH \nATTENTION: Due to the frequent requests for this training\, PLEASE notify us if you register for this class but your schedules change\, and you are Not able to attend. This allows us to contact people who may be on a “Waiting List”. Thank You.
URL:https://warriorsrestfoundation.org/event/assisting-individuals-in-crisis-peer-support-oklahoma-city-2/
LOCATION:Warrior’s Rest Headquarters – Training Room\, 3300 N Santa Fe\, Oklahoma City\, OK\, 73118
CATEGORIES:Assisting Individuals in Crisis,ICISF,Oklahoma Training,Training
ORGANIZER;CN="Warrior's Rest Foundation":MAILTO:christina@warriorsrestfoundation.org
END:VEVENT
BEGIN:VEVENT
DTSTART;TZID=America/Chicago:20251111T080000
DTEND;TZID=America/Chicago:20251113T170000
DTSTAMP:20260419T114211
CREATED:20250822T140142Z
LAST-MODIFIED:20250902T153927Z
UID:10000194-1762848000-1763053200@warriorsrestfoundation.org
SUMMARY:Assisting Individuals in Crisis & Group Crisis Intervention (3-day GRIN Course) Poplar Bluff\, MO
DESCRIPTION:This 3-day course combines ALL the content of ICISF’s Assisting Individuals in Crisis & Group Crisis Intervention courses. \nCrisis Intervention is NOT psychotherapy; it is a specialized acute emergency mental health intervention requiring specialized training. As physical first aid is to surgery\, crisis intervention is to psychotherapy. Thus\, crisis intervention is sometimes called “emotional first aid.” Designed to present the core elements of a comprehensive\, systematic\, and multi-component crisis intervention curriculum\, this course will prepare participants to understand various crisis intervention services for individuals and groups. Fundamentals of Critical Incident Stress Management (CISM) will be outlined\, and participants will leave with the knowledge and tools to provide several group crisis interventions\, specifically demobilizations\, defusing\, and Critical Incident Stress Debriefing (CISD). The need for appropriate follow-up services and referrals\, when necessary\, will also be discussed. \n27 Hours of MO POST
URL:https://warriorsrestfoundation.org/event/assisting-individuals-in-crisis-group-crisis-intervention-3-day-grin-course-poplar-bluff-mo/
LOCATION:Poplar Bluff Police Department\, 911 North Shelby Road\, Poplar Bluff\, MO\, 63901
CATEGORIES:Assisting Individuals in Crisis & Group Crisis Intervention (GRIN),ICISF,Missouri Training,Training
ATTACH;FMTTYPE=image/jpeg:https://warriorsrestfoundation.org/wp-content/uploads/2022/12/4.jpg
ORGANIZER;CN="Warrior's Rest":MAILTO:Matt@warriorsrestfoundation.org
END:VEVENT
BEGIN:VEVENT
DTSTART;TZID=America/Chicago:20251112T080000
DTEND;TZID=America/Chicago:20251113T170000
DTSTAMP:20260419T114211
CREATED:20251003T194507Z
LAST-MODIFIED:20251028T142714Z
UID:10000202-1762934400-1763053200@warriorsrestfoundation.org
SUMMARY:ASSISTING INDIVIDUALS in CRISIS / Peer Support (Altus)
DESCRIPTION:ASSISTING INDIVIDUALS in CRISIS is PHASE 1 of the process to become a trained “Peer Support Responder”. This course is the foundation which prepares the student to provide Peer Support and CISM interventions (if needed) during Individual or “1 on 1” interactions with other First Responders. The need for appropriate follow-up services and referrals post-incident\, when necessary\, will also be discussed during this training. \nThis course is designed for First Responders and Mental Health Professionals who assist other First Responders and their families in dealing with job-related Stress and Trauma. \nCLEET CE 16 hr and 8 hr MH \nATTENTION: Due to the frequent requests for this training\, PLEASE notify us if you register for this class but your schedules change\, and you are Not able to attend. This allows us to contact people who may be on a “Waiting List”. Thank You.
URL:https://warriorsrestfoundation.org/event/assisting-individuals-in-crisis-peer-support-altus/
LOCATION:Southwest Technology Center\, 711 W Tamarack Rd\, Altus\, Oklahoma\, 73521
CATEGORIES:Assisting Individuals in Crisis,ICISF,Oklahoma Training,Training
ORGANIZER;CN="Warrior's Rest Foundation":MAILTO:christina@warriorsrestfoundation.org
END:VEVENT
BEGIN:VEVENT
DTSTART;TZID=America/Chicago:20251117T080000
DTEND;TZID=America/Chicago:20251118T170000
DTSTAMP:20260419T114211
CREATED:20251003T194616Z
LAST-MODIFIED:20251113T141113Z
UID:10000203-1763366400-1763485200@warriorsrestfoundation.org
SUMMARY:ASSISTING INDIVIDUALS in CRISIS / Peer Support (Lawton) *VENUE CHANGE*
DESCRIPTION:ASSISTING INDIVIDUALS in CRISIS is PHASE 1 of the process to become a trained “Peer Support Responder”. This course is the foundation which prepares the student to provide Peer Support and CISM interventions (if needed) during Individual or “1 on 1” interactions with other First Responders. The need for appropriate follow-up services and referrals post-incident\, when necessary\, will also be discussed during this training. \nThis course is designed for First Responders and Mental Health Professionals who assist other First Responders and their families in dealing with job-related Stress and Trauma. \nCLEET CE 16 hr and 8 hr MH \nATTENTION: Due to the frequent requests for this training\, PLEASE notify us if you register for this class but your schedules change\, and you are Not able to attend. This allows us to contact people who may be on a “Waiting List”. Thank You.
URL:https://warriorsrestfoundation.org/event/assisting-individuals-in-crisis-peer-support-lawton/
LOCATION:SureStay Plus by Best Western – Ballroom\, 1125 E Gore Boulevard\, Lawton\, Oklahoma\, 73501
CATEGORIES:Assisting Individuals in Crisis,ICISF,Oklahoma Training,Training
ORGANIZER;CN="Warrior's Rest Foundation":MAILTO:christina@warriorsrestfoundation.org
END:VEVENT
END:VCALENDAR