BEGIN:VCALENDAR
VERSION:2.0
PRODID:-//Warrior&#039;s Rest Foundation - ECPv6.15.18//NONSGML v1.0//EN
CALSCALE:GREGORIAN
METHOD:PUBLISH
X-WR-CALNAME:Warrior&#039;s Rest Foundation
X-ORIGINAL-URL:https://warriorsrestfoundation.org
X-WR-CALDESC:Events for Warrior&#039;s Rest Foundation
REFRESH-INTERVAL;VALUE=DURATION:PT1H
X-Robots-Tag:noindex
X-PUBLISHED-TTL:PT1H
BEGIN:VTIMEZONE
TZID:America/Chicago
BEGIN:DAYLIGHT
TZOFFSETFROM:-0600
TZOFFSETTO:-0500
TZNAME:CDT
DTSTART:20220313T080000
END:DAYLIGHT
BEGIN:STANDARD
TZOFFSETFROM:-0500
TZOFFSETTO:-0600
TZNAME:CST
DTSTART:20221106T070000
END:STANDARD
BEGIN:DAYLIGHT
TZOFFSETFROM:-0600
TZOFFSETTO:-0500
TZNAME:CDT
DTSTART:20230312T080000
END:DAYLIGHT
BEGIN:STANDARD
TZOFFSETFROM:-0500
TZOFFSETTO:-0600
TZNAME:CST
DTSTART:20231105T070000
END:STANDARD
BEGIN:DAYLIGHT
TZOFFSETFROM:-0600
TZOFFSETTO:-0500
TZNAME:CDT
DTSTART:20240310T080000
END:DAYLIGHT
BEGIN:STANDARD
TZOFFSETFROM:-0500
TZOFFSETTO:-0600
TZNAME:CST
DTSTART:20241103T070000
END:STANDARD
END:VTIMEZONE
BEGIN:VEVENT
DTSTART;VALUE=DATE:20230327
DTEND;VALUE=DATE:20230330
DTSTAMP:20260419T082313
CREATED:20230328T175855Z
LAST-MODIFIED:20230420T160546Z
UID:10000024-1679875200-1680134399@warriorsrestfoundation.org
SUMMARY:Critical Incident Stress Management (CISM)
DESCRIPTION:Assisting Individuals in Crisis & Group Crisis Intervention (3-day GRIN course) \nThe 3-day ICISF Critical Incident Stress Management (CISM) / “Basic Peer Training” combines Assisting Individuals in Crisis (a 2-day course) and Group Crisis Intervention (another 2-day course) into a fast-paced 3-day certification referred to as “GRIN.” \nThis course is registered for 27 hours CLEET credit with 2 hours MH
URL:https://warriorsrestfoundation.org/event/critical-incident-stress-management-cism-2/
LOCATION:Norman\, OK
CATEGORIES:Assisting Individuals in Crisis,Group Crisis Intervention,ICISF,Oklahoma Training,Training
ATTACH;FMTTYPE=image/jpeg:https://warriorsrestfoundation.org/wp-content/uploads/2022/12/2.jpg
END:VEVENT
BEGIN:VEVENT
DTSTART;TZID=America/Chicago:20230101T080000
DTEND;TZID=America/Chicago:20230103T170000
DTSTAMP:20260419T082313
CREATED:20230328T171423Z
LAST-MODIFIED:20230420T162009Z
UID:10000022-1672560000-1672765200@warriorsrestfoundation.org
SUMMARY:Critical Incident Stress Management (CISM)
DESCRIPTION:Assisting Individuals in Crisis & Group Crisis Intervention (3-day GRIN course) \nThe 3-day ICISF Critical Incident Stress Management (CISM) / “Basic Peer Training” combines Assisting Individuals in Crisis (a 2-day course) and Group Crisis Intervention (another 2-day course) into a fast-paced 3-day certification referred to as “GRIN.” \nThis course is registered for 27 hours CLEET credit with 2 hours MH
URL:https://warriorsrestfoundation.org/event/critical-incident-stress-management-cism-13/
LOCATION:Stillwater Public Library\, Stillwater Public Library\, Room # 119\, 1107 S. Duck Street\, OK\, 74074\, United States
CATEGORIES:Assisting Individuals in Crisis,Group Crisis Intervention,ICISF,Oklahoma Training,Training
ATTACH;FMTTYPE=image/jpeg:https://warriorsrestfoundation.org/wp-content/uploads/2022/12/2.jpg
END:VEVENT
BEGIN:VEVENT
DTSTART;TZID=America/Chicago:20230101T080000
DTEND;TZID=America/Chicago:20230103T170000
DTSTAMP:20260419T082313
CREATED:20221201T171323Z
LAST-MODIFIED:20230302T170859Z
UID:10000001-1672560000-1672765200@warriorsrestfoundation.org
SUMMARY:Critical Incident Stress Management (CISM)
DESCRIPTION:Assisting Individuals in Crisis & Group Crisis Intervention (3-day GRIN course) \nThe 3-day ICISF Critical Incident Stress Management (CISM) / “Basic Peer Training” combines Assisting Individuals in Crisis (a 2-day course) and Group Crisis Intervention (another 2-day course) into a fast-paced 3-day certification referred to as “GRIN.” \nThis course is registered for 27 hours CLEET credit with 2 hours MH
URL:https://warriorsrestfoundation.org/event/critical-incident-stress-management-cism/
LOCATION:Stillwater Public Library\, Stillwater Public Library\, Room # 119\, 1107 S. Duck Street\, OK\, 74074\, United States
CATEGORIES:Assisting Individuals in Crisis,Group Crisis Intervention,ICISF,Training
ATTACH;FMTTYPE=image/jpeg:https://warriorsrestfoundation.org/wp-content/uploads/2022/12/2.jpg
END:VEVENT
END:VCALENDAR