BEGIN:VCALENDAR
VERSION:2.0
PRODID:-//Warrior&#039;s Rest Foundation - ECPv6.15.18//NONSGML v1.0//EN
CALSCALE:GREGORIAN
METHOD:PUBLISH
X-ORIGINAL-URL:https://warriorsrestfoundation.org
X-WR-CALDESC:Events for Warrior&#039;s Rest Foundation
REFRESH-INTERVAL;VALUE=DURATION:PT1H
X-Robots-Tag:noindex
X-PUBLISHED-TTL:PT1H
BEGIN:VTIMEZONE
TZID:America/Chicago
BEGIN:DAYLIGHT
TZOFFSETFROM:-0600
TZOFFSETTO:-0500
TZNAME:CDT
DTSTART:20230312T080000
END:DAYLIGHT
BEGIN:STANDARD
TZOFFSETFROM:-0500
TZOFFSETTO:-0600
TZNAME:CST
DTSTART:20231105T070000
END:STANDARD
BEGIN:DAYLIGHT
TZOFFSETFROM:-0600
TZOFFSETTO:-0500
TZNAME:CDT
DTSTART:20240310T080000
END:DAYLIGHT
BEGIN:STANDARD
TZOFFSETFROM:-0500
TZOFFSETTO:-0600
TZNAME:CST
DTSTART:20241103T070000
END:STANDARD
BEGIN:DAYLIGHT
TZOFFSETFROM:-0600
TZOFFSETTO:-0500
TZNAME:CDT
DTSTART:20250309T080000
END:DAYLIGHT
BEGIN:STANDARD
TZOFFSETFROM:-0500
TZOFFSETTO:-0600
TZNAME:CST
DTSTART:20251102T070000
END:STANDARD
END:VTIMEZONE
BEGIN:VEVENT
DTSTART;TZID=America/Chicago:20241111T080000
DTEND;TZID=America/Chicago:20241113T170000
DTSTAMP:20260420T112909
CREATED:20240722T235319Z
LAST-MODIFIED:20240723T044558Z
UID:10000128-1731312000-1731517200@warriorsrestfoundation.org
SUMMARY:Assisting Individuals in Crisis & Group Crisis Intervention (3-day GRIN Course) Hannibal\, MO
DESCRIPTION:This 3-day course combines ALL the content of ICISF’s Assisting Individuals in Crisis & Group Crisis Intervention courses. \nCrisis Intervention is NOT psychotherapy; it is a specialized acute emergency mental health intervention requiring specialized training. As physical first aid is to surgery\, crisis intervention is to psychotherapy. Thus\, crisis intervention is sometimes called “emotional first aid.” Designed to present the core elements of a comprehensive\, systematic\, and multi-component crisis intervention curriculum\, this course will prepare participants to understand various crisis intervention services for individuals and groups. Fundamentals of Critical Incident Stress Management (CISM) will be outlined\, and participants will leave with the knowledge and tools to provide several group crisis interventions\, specifically demobilizations\, defusing\, and Critical Incident Stress Debriefing (CISD). The need for appropriate follow-up services and referrals\, when necessary\, will also be discussed.
URL:https://warriorsrestfoundation.org/event/assisting-individuals-in-crisis-group-crisis-intervention-3-day-grin-course-hannibal-mo/
LOCATION:Marion County Ambulance District Headquarters\, 142 Jaycee Drive\, Hannibal\, MO\, 63401\, United States
CATEGORIES:Assisting Individuals in Crisis & Group Crisis Intervention (GRIN),ICISF,Missouri Training,Post Critical Incident Seminar,Training
ATTACH;FMTTYPE=image/jpeg:https://warriorsrestfoundation.org/wp-content/uploads/2022/12/4.jpg
END:VEVENT
BEGIN:VEVENT
DTSTART;TZID=America/Chicago:20241112T080000
DTEND;TZID=America/Chicago:20241113T170000
DTSTAMP:20260420T112909
CREATED:20241004T154346Z
LAST-MODIFIED:20241004T154346Z
UID:10000148-1731398400-1731517200@warriorsrestfoundation.org
SUMMARY:ASSISTING INDIVIDUALS in CRISIS / Peer Support (ARDMORE)
DESCRIPTION:ASSISTING INDIVIDUALS in CRISIS is PHASE 1 of the process to become a trained “Peer Support Responder”. This is a 2-day course of “Initial Peer Support Training” / Critical Incident Stress Management (CISM) that is intermixed with additional wellness topics for new Peer Support members. This course is the foundation which prepares the student to provide Peer Support and Critical Incident Stress Management (CISM) interventions (if needed) during Individual or “1 on 1” interactions. The need for appropriate follow-up services and referrals post-incident\, when necessary\, will also be discussed during this training. \nThis course is designed for First Responders and Mental Health Professionals who assist other First Responders and their families in dealing with job-related Stress and Trauma. \nCLEET CE 16 hr and 2 hr MH \n(NOTE: This course is a Prerequisite for Group Crisis Intervention PHASE 2 of peer support training which is also scheduled this week.) \nATTENTION: Due to the frequent requests for this training\, PLEASE notify us if you register for this class but your schedules change\, and you are Not able to attend. This allows us to contact people who may be on a “Waiting List”.\nThank You.
URL:https://warriorsrestfoundation.org/event/assisting-individuals-in-crisis-peer-support-ardmore/
LOCATION:Chickasaw Nation Community Center\, 907 Locust St.\, Ardmore\, OK\, 73401\, United States
CATEGORIES:Assisting Individuals in Crisis,ICISF,Oklahoma Training,Training
ATTACH;FMTTYPE=image/jpeg:https://warriorsrestfoundation.org/wp-content/uploads/2023/03/3.jpg
END:VEVENT
END:VCALENDAR