BEGIN:VCALENDAR
VERSION:2.0
PRODID:-//Warrior&#039;s Rest Foundation - ECPv6.15.18//NONSGML v1.0//EN
CALSCALE:GREGORIAN
METHOD:PUBLISH
X-ORIGINAL-URL:https://warriorsrestfoundation.org
X-WR-CALDESC:Events for Warrior&#039;s Rest Foundation
REFRESH-INTERVAL;VALUE=DURATION:PT1H
X-Robots-Tag:noindex
X-PUBLISHED-TTL:PT1H
BEGIN:VTIMEZONE
TZID:America/Chicago
BEGIN:DAYLIGHT
TZOFFSETFROM:-0600
TZOFFSETTO:-0500
TZNAME:CDT
DTSTART:20220313T080000
END:DAYLIGHT
BEGIN:STANDARD
TZOFFSETFROM:-0500
TZOFFSETTO:-0600
TZNAME:CST
DTSTART:20221106T070000
END:STANDARD
BEGIN:DAYLIGHT
TZOFFSETFROM:-0600
TZOFFSETTO:-0500
TZNAME:CDT
DTSTART:20230312T080000
END:DAYLIGHT
BEGIN:STANDARD
TZOFFSETFROM:-0500
TZOFFSETTO:-0600
TZNAME:CST
DTSTART:20231105T070000
END:STANDARD
BEGIN:DAYLIGHT
TZOFFSETFROM:-0600
TZOFFSETTO:-0500
TZNAME:CDT
DTSTART:20240310T080000
END:DAYLIGHT
BEGIN:STANDARD
TZOFFSETFROM:-0500
TZOFFSETTO:-0600
TZNAME:CST
DTSTART:20241103T070000
END:STANDARD
END:VTIMEZONE
BEGIN:VEVENT
DTSTART;TZID=America/Chicago:20231112T080000
DTEND;TZID=America/Chicago:20231114T170000
DTSTAMP:20260419T114928
CREATED:20231023T223634Z
LAST-MODIFIED:20231025T195436Z
UID:10000088-1699776000-1699981200@warriorsrestfoundation.org
SUMMARY:3-day CISM / GRIN course at Placer County SO
DESCRIPTION:3-days of “Basic Peer Training” / Critical Incident Stress Management (CISM) that combines Assisting Individuals in Crisis and Group Crisis Intervention for new Peer Support members. \nAssisting Individuals in Crisis trains the peer to provide Peer Support and Critical Incident Stress Management (CISM) interventions (if needed) during Individual or “1 on 1” interactions. \nGroup Crisis Intervention prepares the Peer to provide CISM interventions of Critical Incident Stress Debriefings (CISD)\, Defusing\, Crisis Management Briefings (CMB)\, etc. in Group situations. The need for appropriate follow-up services and referrals\, when necessary\, will also be discussed. \nThis course is designed for First Responders and Mental Health Professionals who assist First Responders and their families in dealing with job-related Stress and Trauma.
URL:https://warriorsrestfoundation.org/event/3-day-cism-grin-course-at-placer-county-so/
LOCATION:Auburn Justice Center\, 2929 Richardson Drive\, Auburn\, CA\, 95603\, United States
CATEGORIES:Assisting Individuals in Crisis & Group Crisis Intervention (GRIN),california-training,ICISF,Training
ATTACH;FMTTYPE=image/jpeg:https://warriorsrestfoundation.org/wp-content/uploads/2022/12/4.jpg
ORGANIZER;CN="James Spencer":MAILTO:JSpencer@placer.ca.gov
END:VEVENT
BEGIN:VEVENT
DTSTART;TZID=America/Chicago:20231024T080000
DTEND;TZID=America/Chicago:20231026T170000
DTSTAMP:20260419T114928
CREATED:20230608T215746Z
LAST-MODIFIED:20231219T200050Z
UID:10000053-1698134400-1698339600@warriorsrestfoundation.org
SUMMARY:Assisting Individuals in Crisis & Group Crisis Intervention (3-day GRIN Course) (Monett\, MO)
DESCRIPTION:Assisting Individuals in Crisis & Group Crisis Intervention (GRIN) \nThis 3-day course combines ALL the content of ICISF’s Assisting Individuals in Crisis & Group Crisis Intervention courses. \nCrisis Intervention is NOT psychotherapy; rather\, it is a specialized acute emergency mental health intervention which requires specialized training. As physical first aid is to surgery\, crisis intervention is to psychotherapy. Thus\, crisis intervention is sometimes called “emotional first aid”. Designed to present the core elements of a comprehensive\, systematic\, and multi-component crisis intervention curriculum\, this course will prepare participants to understand a wide range of crisis intervention services for both the individual and for groups. Fundamentals of Critical Incident Stress Management (CISM) will be outlined\, and participants will leave with the knowledge and tools to provide several group crisis interventions\, specifically demobilizations\, defusing’s\, and the Critical Incident Stress Debriefing (CISD). The need for appropriate follow-up services and referrals\, when necessary\, will also be discussed. \nThis course is designed for anyone in the fields of Business & Industry Crisis Intervention\, Disaster Response\, Education\, Emergency Services\, Employee Assistance\, Healthcare\, Homeland Security\, Mental Health\, Military\, Spiritual Care\, and Traumatic Stress. \nThree-Day Course / 27 Contact Hours \nPOC Info \nSergeant Jay Jastal \nOIC School Resource /Crime Prevention Division \nMonett Police Department \n1901 East Cleveland Ave. \nMonett\, MO 65708 \nPhone: 417.235.4241 \nCell:     417.489.5785 \nFax:     417.635.3503
URL:https://warriorsrestfoundation.org/event/assisting-individuals-in-crisis-group-crisis-intervention-3-day-grin-course-2/
LOCATION:Monett Police Department\, 1901 East Cleveland Ave.\, Monett\, MO\, 65708\, United States
CATEGORIES:Assisting Individuals in Crisis & Group Crisis Intervention (GRIN),ICISF,Missouri Training,Training
ATTACH;FMTTYPE=image/jpeg:https://warriorsrestfoundation.org/wp-content/uploads/2022/12/4.jpg
END:VEVENT
BEGIN:VEVENT
DTSTART;TZID=America/Chicago:20231010T080000
DTEND;TZID=America/Chicago:20231012T170000
DTSTAMP:20260419T114928
CREATED:20230713T202522Z
LAST-MODIFIED:20231219T195659Z
UID:10000062-1696924800-1697130000@warriorsrestfoundation.org
SUMMARY:Assisting Individuals in Crisis & Group Crisis Intervention (3-day GRIN Course) (Sikeston\, MO)
DESCRIPTION:This 3-day course combines ALL the content of ICISF’s Assisting Individuals in Crisis & Group Crisis Intervention courses. \nCrisis Intervention is NOT psychotherapy; rather\, it is a specialized acute emergency mental health intervention that requires specialized training. As physical first aid is to surgery\, crisis intervention is to psychotherapy. Thus\, crisis intervention is sometimes called “emotional first aid”. Designed to present the core elements of a comprehensive\, systematic\, and multi-component crisis intervention curriculum\, this course will prepare participants to understand a wide range of crisis intervention services for both the individual and for groups. Fundamentals of Critical Incident Stress Management (CISM) will be outlined\, and participants will leave with the knowledge and tools to provide several group crisis interventions\, specifically demobilizations\, defusing\, and Critical Incident Stress Debriefing (CISD). The need for appropriate follow-up services and referrals\, when necessary\, will also be discussed.
URL:https://warriorsrestfoundation.org/event/assisting-individuals-in-crisis-group-crisis-intervention-3-day-grin-course-4/
LOCATION:Sikeston Department of Public Safety\, 201 S. Kingshighway\, Sikeston\, MO\, 63801
CATEGORIES:Assisting Individuals in Crisis & Group Crisis Intervention (GRIN),ICISF,Missouri Training
ATTACH;FMTTYPE=image/jpeg:https://warriorsrestfoundation.org/wp-content/uploads/2022/12/4.jpg
ORGANIZER;CN="Captain Jon Broom":MAILTO:jbroom@sikeston.org
END:VEVENT
BEGIN:VEVENT
DTSTART;TZID=America/Chicago:20230918T080000
DTEND;TZID=America/Chicago:20230920T180000
DTSTAMP:20260419T114928
CREATED:20230626T164017Z
LAST-MODIFIED:20231219T200317Z
UID:10000056-1695024000-1695232800@warriorsrestfoundation.org
SUMMARY:Assisting Individuals in Crisis & Group Crisis Intervention (GRIN 3-day course)(Lebanon\, MO)
DESCRIPTION:Assisting Individuals in Crisis & Group Crisis Intervention (GRIN) 3-day course \nThis 3-day course combines ALL the content of ICISF’s Assisting Individuals in Crisis & Group Crisis Intervention courses. \nCrisis Intervention is NOT psychotherapy; rather\, it is a specialized acute emergency mental health intervention which requires specialized training. As physical first aid is to surgery\, crisis intervention is to psychotherapy. Thus\, crisis intervention is sometimes called “emotional first aid”. Designed to present the core elements of a comprehensive\, systematic\, and multi-component crisis intervention curriculum\, this course will prepare participants to understand a wide range of crisis intervention services for both the individual and for groups. Fundamentals of Critical Incident Stress Management (CISM) will be outlined\, and participants will leave with the knowledge and tools to provide several group crisis interventions\, specifically demobilizations\, defusing’s\, and the Critical Incident Stress Debriefing (CISD). The need for appropriate follow-up services and referrals\, when necessary\, will also be discussed. \nThree-Day Course / 27 Contact Hours \nPOC:\nSgt K. Springer\nkspringer@lebanonmo.org\n(417) 532-3131
URL:https://warriorsrestfoundation.org/event/assisting-individuals-in-crisis-group-crisis-intervention-grin-3-day-course/
LOCATION:Cowan Civic Center\, 500 E. Elm Street\, Lebanon\, MO\, 65536\, United States
CATEGORIES:Assisting Individuals in Crisis & Group Crisis Intervention (GRIN),Missouri Training,Training
ATTACH;FMTTYPE=image/jpeg:https://warriorsrestfoundation.org/wp-content/uploads/2022/12/4.jpg
END:VEVENT
BEGIN:VEVENT
DTSTART;TZID=America/Chicago:20230814T080000
DTEND;TZID=America/Chicago:20230816T170000
DTSTAMP:20260419T114928
CREATED:20230608T215931Z
LAST-MODIFIED:20231219T200014Z
UID:10000054-1692000000-1692205200@warriorsrestfoundation.org
SUMMARY:Assisting Individuals in Crisis & Group Crisis Intervention (3-day GRIN Course) (Park Hills\, MO)
DESCRIPTION:Assisting Individuals in Crisis & Group Crisis Intervention (GRIN) \nThis 3-day course combines ALL the content of ICISF’s Assisting Individuals in Crisis & Group Crisis Intervention courses. \nCrisis Intervention is NOT psychotherapy; rather\, it is a specialized acute emergency mental health intervention which requires specialized training. As physical first aid is to surgery\, crisis intervention is to psychotherapy. Thus\, crisis intervention is sometimes called “emotional first aid”. Designed to present the core elements of a comprehensive\, systematic\, and multi-component crisis intervention curriculum\, this course will prepare participants to understand a wide range of crisis intervention services for both the individual and for groups. Fundamentals of Critical Incident Stress Management (CISM) will be outlined\, and participants will leave with the knowledge and tools to provide several group crisis interventions\, specifically demobilizations\, defusing’s\, and the Critical Incident Stress Debriefing (CISD). The need for appropriate follow-up services and referrals\, when necessary\, will also be discussed. \n  \nThree-Day Course / 27 Contact Hours \nPOC:\nGary Fryman – PST\, PST-I\, NREMT\,\nQuality Control/Training Coordinator St Francois County 911\n102 Industrial Drive Park Hills Mo 63601\nPhone 573-327-8924\nFax 573-431-4110\nCell 573-330-0751
URL:https://warriorsrestfoundation.org/event/assisting-individuals-in-crisis-group-crisis-intervention-3-day-grin-course-3/
LOCATION:St. Francois County 911 Center\, 102 Industrial Dr\, Park Hills\, MO\, 63601\, United States
CATEGORIES:Assisting Individuals in Crisis & Group Crisis Intervention (GRIN),ICISF,Missouri Training,Training
ATTACH;FMTTYPE=image/jpeg:https://warriorsrestfoundation.org/wp-content/uploads/2022/12/4.jpg
END:VEVENT
BEGIN:VEVENT
DTSTART;VALUE=DATE:20230612
DTEND;VALUE=DATE:20230615
DTSTAMP:20260419T114928
CREATED:20221227T202550Z
LAST-MODIFIED:20231219T195932Z
UID:10000005-1686528000-1686787199@warriorsrestfoundation.org
SUMMARY:Assisting Individuals in Crisis & Group Crisis Intervention (GRIN) (Harrisonville\, MO)
DESCRIPTION:This 3-day course combines ALL the content of ICISF’s Assisting Individuals in Crisis & Group Crisis Intervention courses.\n\nCrisis Intervention is NOT psychotherapy; rather\, it is a specialized acute emergency mental health intervention which requires specialized training. As physical first aid is to surgery\, crisis intervention is to psychotherapy. Thus\, crisis intervention is sometimes called “emotional first aid”. Designed to present the core elements of a comprehensive\, systematic\, and multi-component crisis intervention curriculum\, this course will prepare participants to understand a wide range of crisis intervention services for both the individual and for groups. Fundamentals of Critical Incident Stress Management (CISM) will be outlined\, and participants will leave with the knowledge and tools to provide several group crisis interventions\, specifically demobilizations\, defusing’s\, and the Critical Incident Stress Debriefing (CISD). The need for appropriate follow-up services and referrals\, when necessary\, will also be discussed.\n\n\n\nThree-day Course / 27 Contact Hours (POST Accredited)
URL:https://warriorsrestfoundation.org/event/grin-4/
LOCATION:Cass County Sheriff’s Office\, 2501 West Mechanic St.\, 2501 West Mechanic St.\, Harrisonville\, MO\, 64701\, United States
CATEGORIES:Assisting Individuals in Crisis & Group Crisis Intervention (GRIN),ICISF,Missouri Training,Training
ATTACH;FMTTYPE=image/jpeg:https://warriorsrestfoundation.org/wp-content/uploads/2022/12/4.jpg
END:VEVENT
BEGIN:VEVENT
DTSTART;VALUE=DATE:20230426
DTEND;VALUE=DATE:20230429
DTSTAMP:20260419T114928
CREATED:20231219T195846Z
LAST-MODIFIED:20231219T195846Z
UID:10000052-1682467200-1682726399@warriorsrestfoundation.org
SUMMARY:Assisting Individuals in Crisis & Group Crisis Intervention (3-day GRIN Course) (O'Fallon\, MO)
DESCRIPTION:Assisting Individuals in Crisis & Group Crisis Intervention (GRIN) \nThis 3-day course combines ALL the content of ICISF’s Assisting Individuals in Crisis & Group Crisis Intervention courses. \nCrisis Intervention is NOT psychotherapy; rather\, it is a specialized acute emergency mental health intervention which requires specialized training. As physical first aid is to surgery\, crisis intervention is to psychotherapy. Thus\, crisis intervention is sometimes called “emotional first aid”. Designed to present the core elements of a comprehensive\, systematic\, and multi-component crisis intervention curriculum\, this course will prepare participants to understand a wide range of crisis intervention services for both the individual and for groups. Fundamentals of Critical Incident Stress Management (CISM) will be outlined\, and participants will leave with the knowledge and tools to provide several group crisis interventions\, specifically demobilizations\, defusing’s\, and the Critical Incident Stress Debriefing (CISD). The need for appropriate follow-up services and referrals\, when necessary\, will also be discussed. \nThis course is designed for anyone in the fields of Business & Industry Crisis Intervention\, Disaster Response\, Education\, Emergency Services\, Employee Assistance\, Healthcare\, Homeland Security\, Mental Health\, Military\, Spiritual Care\, and Traumatic Stress. \nThree-Day Course / 27 Contact Hours
URL:https://warriorsrestfoundation.org/event/assisting-individuals-in-crisis-group-crisis-intervention-3-day-grin-course-ofallon-mo/
LOCATION:St Charles County: Emergency Operations Center\, 1400 TR Hughes Blvd\, O'Fallon\, MO\, 63376\, United States
CATEGORIES:Assisting Individuals in Crisis & Group Crisis Intervention (GRIN),ICISF,Missouri Training,Training
ATTACH;FMTTYPE=image/jpeg:https://warriorsrestfoundation.org/wp-content/uploads/2022/12/4.jpg
END:VEVENT
BEGIN:VEVENT
DTSTART;VALUE=DATE:20230426
DTEND;VALUE=DATE:20230429
DTSTAMP:20260419T114928
CREATED:20230329T183339Z
LAST-MODIFIED:20231219T195902Z
UID:10000042-1682467200-1682726399@warriorsrestfoundation.org
SUMMARY:Assisting Individuals in Crisis & Group Crisis Intervention (3-day GRIN Course) (O'Fallon\, MO)
DESCRIPTION:Assisting Individuals in Crisis & Group Crisis Intervention (GRIN) \nThis 3-day course combines ALL the content of ICISF’s Assisting Individuals in Crisis & Group Crisis Intervention courses. \nCrisis Intervention is NOT psychotherapy; rather\, it is a specialized acute emergency mental health intervention which requires specialized training. As physical first aid is to surgery\, crisis intervention is to psychotherapy. Thus\, crisis intervention is sometimes called “emotional first aid”. Designed to present the core elements of a comprehensive\, systematic\, and multi-component crisis intervention curriculum\, this course will prepare participants to understand a wide range of crisis intervention services for both the individual and for groups. Fundamentals of Critical Incident Stress Management (CISM) will be outlined\, and participants will leave with the knowledge and tools to provide several group crisis interventions\, specifically demobilizations\, defusing’s\, and the Critical Incident Stress Debriefing (CISD). The need for appropriate follow-up services and referrals\, when necessary\, will also be discussed. \nThis course is designed for anyone in the fields of Business & Industry Crisis Intervention\, Disaster Response\, Education\, Emergency Services\, Employee Assistance\, Healthcare\, Homeland Security\, Mental Health\, Military\, Spiritual Care\, and Traumatic Stress. \nThree-Day Course / 27 Contact Hours
URL:https://warriorsrestfoundation.org/event/assisting-individuals-in-crisis-group-crisis-intervention-3-day-grin-course/
LOCATION:St Charles County: Emergency Operations Center\, 1400 TR Hughes Blvd\, O'Fallon\, MO\, 63376\, United States
CATEGORIES:Assisting Individuals in Crisis & Group Crisis Intervention (GRIN),ICISF,Missouri Training,Training
ATTACH;FMTTYPE=image/jpeg:https://warriorsrestfoundation.org/wp-content/uploads/2022/12/4.jpg
END:VEVENT
BEGIN:VEVENT
DTSTART;VALUE=DATE:20230327
DTEND;VALUE=DATE:20230330
DTSTAMP:20260419T114928
CREATED:20221229T162319Z
LAST-MODIFIED:20230328T174711Z
UID:10000017-1679875200-1680134399@warriorsrestfoundation.org
SUMMARY:Assisting Individuals in Crisis & Group Crisis Intervention (GRIN)
DESCRIPTION:This 3-day course combines ALL the content of ICISF’s Assisting Individuals in Crisis & Group Crisis Intervention courses.\n\nCrisis Intervention is NOT psychotherapy; rather\, it is a specialized acute emergency mental health intervention which requires specialized training. As physical first aid is to surgery\, crisis intervention is to psychotherapy. Thus\, crisis intervention is sometimes called “emotional first aid”. Designed to present the core elements of a comprehensive\, systematic\, and multi-component crisis intervention curriculum\, this course will prepare participants to understand a wide range of crisis intervention services for both the individual and for groups. Fundamentals of Critical Incident Stress Management (CISM) will be outlined\, and participants will leave with the knowledge and tools to provide several group crisis interventions\, specifically demobilizations\, defusing’s\, and the Critical Incident Stress Debriefing (CISD). The need for appropriate follow-up services and referrals\, when necessary\, will also be discussed.\n\nThis course is designed for anyone in the fields of Business & Industry Crisis Intervention\, Disaster Response\, Education\, Emergency Services\, Employee Assistance\, Healthcare\, Homeland Security\, Mental Health\, Military\, Spiritual Care\, and Traumatic Stress.\n\nThree-day Course / 19 Contact Hours
URL:https://warriorsrestfoundation.org/event/grin-6/
LOCATION:Broken Arrow PD\, 4205 E. Omaha St\, Broken Arrow\, OK\, 74014\, United States
CATEGORIES:Assisting Individuals in Crisis & Group Crisis Intervention (GRIN),ICISF,Oklahoma Training,Training
ATTACH;FMTTYPE=image/jpeg:https://warriorsrestfoundation.org/wp-content/uploads/2022/12/4.jpg
END:VEVENT
BEGIN:VEVENT
DTSTART;VALUE=DATE:20230206
DTEND;VALUE=DATE:20230209
DTSTAMP:20260419T114928
CREATED:20221229T155523Z
LAST-MODIFIED:20230302T170800Z
UID:10000016-1675641600-1675900799@warriorsrestfoundation.org
SUMMARY:Assisting Individuals in Crisis & Group Crisis Intervention (GRIN)
DESCRIPTION:This 3-day course combines ALL the content of ICISF’s Assisting Individuals in Crisis & Group Crisis Intervention courses.\n\nCrisis Intervention is NOT psychotherapy; rather\, it is a specialized acute emergency mental health intervention which requires specialized training. As physical first aid is to surgery\, crisis intervention is to psychotherapy. Thus\, crisis intervention is sometimes called “emotional first aid”. Designed to present the core elements of a comprehensive\, systematic\, and multi-component crisis intervention curriculum\, this course will prepare participants to understand a wide range of crisis intervention services for both the individual and for groups. Fundamentals of Critical Incident Stress Management (CISM) will be outlined\, and participants will leave with the knowledge and tools to provide several group crisis interventions\, specifically demobilizations\, defusing’s\, and the Critical Incident Stress Debriefing (CISD). The need for appropriate follow-up services and referrals\, when necessary\, will also be discussed.\n\nThis course is designed for anyone in the fields of Business & Industry Crisis Intervention\, Disaster Response\, Education\, Emergency Services\, Employee Assistance\, Healthcare\, Homeland Security\, Mental Health\, Military\, Spiritual Care\, and Traumatic Stress.\n\nThree-day Course / 19 Contact Hours
URL:https://warriorsrestfoundation.org/event/grin-5/
LOCATION:Stillwater PD\, Stillwater\, OK\, 74074
CATEGORIES:Assisting Individuals in Crisis & Group Crisis Intervention (GRIN),ICISF,Training
ATTACH;FMTTYPE=image/jpeg:https://warriorsrestfoundation.org/wp-content/uploads/2022/12/4.jpg
END:VEVENT
BEGIN:VEVENT
DTSTART;VALUE=DATE:20230206
DTEND;VALUE=DATE:20230209
DTSTAMP:20260419T114928
CREATED:20221227T193736Z
LAST-MODIFIED:20230302T170806Z
UID:10000003-1675641600-1675900799@warriorsrestfoundation.org
SUMMARY:Assisting Individuals in Crisis & Group Crisis Intervention (GRIN)
DESCRIPTION:This 3-day course combines ALL the content of ICISF’s Assisting Individuals in Crisis & Group Crisis Intervention courses.\n\nCrisis Intervention is NOT psychotherapy; rather\, it is a specialized acute emergency mental health intervention which requires specialized training. As physical first aid is to surgery\, crisis intervention is to psychotherapy. Thus\, crisis intervention is sometimes called “emotional first aid”. Designed to present the core elements of a comprehensive\, systematic\, and multi-component crisis intervention curriculum\, this course will prepare participants to understand a wide range of crisis intervention services for both the individual and for groups. Fundamentals of Critical Incident Stress Management (CISM) will be outlined\, and participants will leave with the knowledge and tools to provide several group crisis interventions\, specifically demobilizations\, defusing’s\, and the Critical Incident Stress Debriefing (CISD). The need for appropriate follow-up services and referrals\, when necessary\, will also be discussed.\n\nThis course is designed for anyone in the fields of Business & Industry Crisis Intervention\, Disaster Response\, Education\, Emergency Services\, Employee Assistance\, Healthcare\, Homeland Security\, Mental Health\, Military\, Spiritual Care\, and Traumatic Stress.\n\nThree-day Course / 19 Contact Hours
URL:https://warriorsrestfoundation.org/event/grin-2/
LOCATION:Columbia College\, 550 Blue's Lake Parkway (Troop I)\, Rolla\, MO\, 65401\, United States
CATEGORIES:Assisting Individuals in Crisis & Group Crisis Intervention (GRIN),ICISF,Training
ATTACH;FMTTYPE=image/jpeg:https://warriorsrestfoundation.org/wp-content/uploads/2022/12/4.jpg
END:VEVENT
BEGIN:VEVENT
DTSTART;VALUE=DATE:20230111
DTEND;VALUE=DATE:20230114
DTSTAMP:20260419T114928
CREATED:20221227T193519Z
LAST-MODIFIED:20230302T170844Z
UID:10000002-1673395200-1673654399@warriorsrestfoundation.org
SUMMARY:Assisting Individuals in Crisis & Group Crisis Intervention (GRIN)
DESCRIPTION:This 3-day course combines ALL the content of ICISF’s Assisting Individuals in Crisis & Group Crisis Intervention courses.\n\nCrisis Intervention is NOT psychotherapy; rather\, it is a specialized acute emergency mental health intervention which requires specialized training. As physical first aid is to surgery\, crisis intervention is to psychotherapy. Thus\, crisis intervention is sometimes called “emotional first aid”. Designed to present the core elements of a comprehensive\, systematic\, and multi-component crisis intervention curriculum\, this course will prepare participants to understand a wide range of crisis intervention services for both the individual and for groups. Fundamentals of Critical Incident Stress Management (CISM) will be outlined\, and participants will leave with the knowledge and tools to provide several group crisis interventions\, specifically demobilizations\, defusing’s\, and the Critical Incident Stress Debriefing (CISD). The need for appropriate follow-up services and referrals\, when necessary\, will also be discussed.\n\nThis course is designed for anyone in the fields of Business & Industry Crisis Intervention\, Disaster Response\, Education\, Emergency Services\, Employee Assistance\, Healthcare\, Homeland Security\, Mental Health\, Military\, Spiritual Care\, and Traumatic Stress.\n\nThree-day Course / 19 Contact Hours
URL:https://warriorsrestfoundation.org/event/grin/
LOCATION:Missouri State Highway Patrol\, Troop G Headquarters\, Troop G Headquarters\, 1226 W. Business 60/63\, Willow Springs\, MO\, 65793\, United States
CATEGORIES:Assisting Individuals in Crisis & Group Crisis Intervention (GRIN),ICISF,Training
ATTACH;FMTTYPE=image/jpeg:https://warriorsrestfoundation.org/wp-content/uploads/2022/12/4.jpg
END:VEVENT
END:VCALENDAR