BEGIN:VCALENDAR
VERSION:2.0
PRODID:-//Warrior&#039;s Rest Foundation - ECPv6.15.18//NONSGML v1.0//EN
CALSCALE:GREGORIAN
METHOD:PUBLISH
X-ORIGINAL-URL:https://warriorsrestfoundation.org
X-WR-CALDESC:Events for Warrior&#039;s Rest Foundation
REFRESH-INTERVAL;VALUE=DURATION:PT1H
X-Robots-Tag:noindex
X-PUBLISHED-TTL:PT1H
BEGIN:VTIMEZONE
TZID:America/Chicago
BEGIN:DAYLIGHT
TZOFFSETFROM:-0600
TZOFFSETTO:-0500
TZNAME:CDT
DTSTART:20220313T080000
END:DAYLIGHT
BEGIN:STANDARD
TZOFFSETFROM:-0500
TZOFFSETTO:-0600
TZNAME:CST
DTSTART:20221106T070000
END:STANDARD
BEGIN:DAYLIGHT
TZOFFSETFROM:-0600
TZOFFSETTO:-0500
TZNAME:CDT
DTSTART:20230312T080000
END:DAYLIGHT
BEGIN:STANDARD
TZOFFSETFROM:-0500
TZOFFSETTO:-0600
TZNAME:CST
DTSTART:20231105T070000
END:STANDARD
BEGIN:DAYLIGHT
TZOFFSETFROM:-0600
TZOFFSETTO:-0500
TZNAME:CDT
DTSTART:20240310T080000
END:DAYLIGHT
BEGIN:STANDARD
TZOFFSETFROM:-0500
TZOFFSETTO:-0600
TZNAME:CST
DTSTART:20241103T070000
END:STANDARD
END:VTIMEZONE
BEGIN:VEVENT
DTSTART;VALUE=DATE:20230402
DTEND;VALUE=DATE:20230406
DTSTAMP:20260421T172710
CREATED:20230329T125711Z
LAST-MODIFIED:20230330T152958Z
UID:10000031-1680393600-1680739199@warriorsrestfoundation.org
SUMMARY:Post Critical Incident Seminar (PCIS) #6
DESCRIPTION:Warrior’s Rest Foundation provides intervention\, education\, counseling\, and peer support in a structured\, intensive\, three-day seminar environment called Post Critical Incident Seminar (PCIS) for First Responders who have experienced significant critical incidents and these events disrupt their lives. This Seminar is provided to ALL First Responders (current and retired) at no cost other than travel expenses.\n\n* Attendance closed – accepting waiting list only!
URL:https://warriorsrestfoundation.org/event/post-critical-incident-seminar-pcis-6/
LOCATION:St. Crispin’s Conference Center\, 36302 OK-9\, Wewoka\, OK\, 74884\, United States
CATEGORIES:Oklahoma Training,Post Critical Incident Seminar,Training
ATTACH;FMTTYPE=image/jpeg:https://warriorsrestfoundation.org/wp-content/uploads/2022/12/10.jpg
END:VEVENT
BEGIN:VEVENT
DTSTART;VALUE=DATE:20230411
DTEND;VALUE=DATE:20230414
DTSTAMP:20260421T172710
CREATED:20230328T180816Z
LAST-MODIFIED:20230406T171004Z
UID:10000025-1681171200-1681430399@warriorsrestfoundation.org
SUMMARY:Critical Incident Stress Management (CISM)
DESCRIPTION:Assisting Individuals in Crisis & Group Crisis Intervention (3-day GRIN course) \nThe 3-day ICISF Critical Incident Stress Management (CISM) / “Basic Peer Training” combines Assisting Individuals in Crisis (a 2-day course) and Group Crisis Intervention (another 2-day course) into a fast-paced 3-day certification referred to as “GRIN.” \nThis course is registered for 27 hours CLEET credit with 2 hours MH \n 
URL:https://warriorsrestfoundation.org/event/critical-incident-stress-management-cism-3/
LOCATION:Claremore Conference Center\, 1400 West Country Club Rd\, Claremore\, OK\, 74017\, United States
CATEGORIES:Assisting Individuals in Crisis,Group Crisis Intervention,ICISF,Oklahoma Training,Training
ATTACH;FMTTYPE=image/jpeg:https://warriorsrestfoundation.org/wp-content/uploads/2022/12/4.jpg
END:VEVENT
BEGIN:VEVENT
DTSTART;VALUE=DATE:20230415
DTEND;VALUE=DATE:20230417
DTSTAMP:20260421T172710
CREATED:20230328T182645Z
LAST-MODIFIED:20230406T171326Z
UID:10000027-1681516800-1681689599@warriorsrestfoundation.org
SUMMARY:Critical Incident Stress Management (CISM)
DESCRIPTION:Assisting Individuals in Crisis \n\n\n\n\n\nCrisis Intervention is NOT psychotherapy; rather\, it is a specialized acute emergency mental health intervention which requires specialized training. As physical first aid is to surgery\, crisis intervention is to psychotherapy. Thus\, crisis intervention is sometimes called “emotional first aid”. This program is designed to teach participants the fundamentals of\, and a specific protocol for\, individual crisis intervention. This course is designed for anyone who desires to increase their knowledge of individual (one-on-one) crisis intervention techniques in the fields of Business & Industry\, Crisis Intervention\, Disaster Response\, Education\, Emergency Services\, Employee Assistance\, Healthcare\, Homeland Security\, Mental Health\, Military\, Spiritual Care\, and Traumatic Stress.\n\nTwo-Day Course / 16 Contact Hours / 2 hours of CLEET Training mental health
URL:https://warriorsrestfoundation.org/event/critical-incident-stress-management-cism-4/
LOCATION:Mid-America Technology Center\, 27438 OK-59\, Wayne\, OK\, 73095\, United States
CATEGORIES:Assisting Individuals in Crisis,Group Crisis Intervention,ICISF,Oklahoma Training,Training
ATTACH;FMTTYPE=image/jpeg:https://warriorsrestfoundation.org/wp-content/uploads/2023/03/3.jpg
END:VEVENT
BEGIN:VEVENT
DTSTART;VALUE=DATE:20230422
DTEND;VALUE=DATE:20230424
DTSTAMP:20260421T172710
CREATED:20230328T182952Z
LAST-MODIFIED:20230420T155100Z
UID:10000028-1682121600-1682294399@warriorsrestfoundation.org
SUMMARY:Critical Incident Stress Management (CISM)
DESCRIPTION:Group Crisis Intervention \nDesigned to present the core elements of a comprehensive\, systematic and multi-component crisis intervention curriculum\, the Group Crisis Intervention course will prepare participants to understand a wide range of crisis intervention services. Fundamentals of Critical Incident Stress Management (CISM) will be outlined\, and participants will leave with the knowledge and tools to provide several group crisis interventions\, specifically demobilizations\, Defusing and the Critical Incident Stress Debriefing (CISD). The need for appropriate follow-up services and referrals\, when necessary\, will also be discussed. \nThis course is designed for anyone in the fields of Business & Industry Crisis Intervention\, Disaster Response\, Education\, Emergency Services\, Employee Assistance\, Healthcare\, Homeland Security\, Mental Health\, Military\, Spiritual Care\, and Traumatic Stress. \nTwo-Day Course / 16 Contact Hours / 2 hours of CLEET Training mental health
URL:https://warriorsrestfoundation.org/event/critical-incident-stress-management-cism-5/
LOCATION:Mid-America Technology Center\, 27438 OK-59\, Wayne\, OK\, 73095\, United States
CATEGORIES:Assisting Individuals in Crisis,Group Crisis Intervention,ICISF,Oklahoma Training,Training
ATTACH;FMTTYPE=image/jpeg:https://warriorsrestfoundation.org/wp-content/uploads/2022/12/2.jpg
END:VEVENT
BEGIN:VEVENT
DTSTART;VALUE=DATE:20230424
DTEND;VALUE=DATE:20230429
DTSTAMP:20260421T172710
CREATED:20230329T125042Z
LAST-MODIFIED:20230421T211754Z
UID:10000029-1682294400-1682726399@warriorsrestfoundation.org
SUMMARY:Critical Incident Stress Management (CISM)
DESCRIPTION:Assisting Individuals in Crisis & Group Crisis Intervention  \n4-days CISM Training followed by a 1-day course of additional Peer Team & Wellness Topics.
URL:https://warriorsrestfoundation.org/event/critical-incident-stress-management-cism-6/
LOCATION:Gordon Cooper Technology Center – Public Safety Enterprise Room\, One John C Bruton Blvd\, Shawnee\, OK\, 74804\, United States
CATEGORIES:Assisting Individuals in Crisis,Group Crisis Intervention,ICISF,Oklahoma Training,Training
ATTACH;FMTTYPE=image/jpeg:https://warriorsrestfoundation.org/wp-content/uploads/2023/04/5-Day-CISM.jpg
END:VEVENT
END:VCALENDAR