BEGIN:VCALENDAR
VERSION:2.0
PRODID:-//Warrior&#039;s Rest Foundation - ECPv6.15.18//NONSGML v1.0//EN
CALSCALE:GREGORIAN
METHOD:PUBLISH
X-ORIGINAL-URL:https://warriorsrestfoundation.org
X-WR-CALDESC:Events for Warrior&#039;s Rest Foundation
REFRESH-INTERVAL;VALUE=DURATION:PT1H
X-Robots-Tag:noindex
X-PUBLISHED-TTL:PT1H
BEGIN:VTIMEZONE
TZID:America/Chicago
BEGIN:DAYLIGHT
TZOFFSETFROM:-0600
TZOFFSETTO:-0500
TZNAME:CDT
DTSTART:20220313T080000
END:DAYLIGHT
BEGIN:STANDARD
TZOFFSETFROM:-0500
TZOFFSETTO:-0600
TZNAME:CST
DTSTART:20221106T070000
END:STANDARD
BEGIN:DAYLIGHT
TZOFFSETFROM:-0600
TZOFFSETTO:-0500
TZNAME:CDT
DTSTART:20230312T080000
END:DAYLIGHT
BEGIN:STANDARD
TZOFFSETFROM:-0500
TZOFFSETTO:-0600
TZNAME:CST
DTSTART:20231105T070000
END:STANDARD
BEGIN:DAYLIGHT
TZOFFSETFROM:-0600
TZOFFSETTO:-0500
TZNAME:CDT
DTSTART:20240310T080000
END:DAYLIGHT
BEGIN:STANDARD
TZOFFSETFROM:-0500
TZOFFSETTO:-0600
TZNAME:CST
DTSTART:20241103T070000
END:STANDARD
END:VTIMEZONE
BEGIN:VEVENT
DTSTART;TZID=America/Chicago:20230909T090000
DTEND;TZID=America/Chicago:20230909T170000
DTSTAMP:20260421T073939
CREATED:20230706T193332Z
LAST-MODIFIED:20230706T193727Z
UID:10000060-1694250000-1694278800@warriorsrestfoundation.org
SUMMARY:Home Watch - Law Enforcement Spouse Conference
DESCRIPTION:Building Strength for the Journey \nThis full-day conference is designed to equip men and women in their roles as law enforcement spouses/significant others. With teaching\, stories\, connection\, food\, and much more\, attendees will leave honored\, encouraged\, and inspired! \n  \nVisit our partners at How 2 Love Our Cops to find out more information and purchase your tickets. \n  \nhttps://how2loveourcops.ticketspice.com/home-watch-oklahoma-city \n 
URL:https://warriorsrestfoundation.org/event/home-watch-law-enforcement-spouse-conference/
LOCATION:OK
CATEGORIES:Continuing Education,Oklahoma Training,Training
ATTACH;FMTTYPE=image/jpeg:https://warriorsrestfoundation.org/wp-content/uploads/2022/12/Warriors-Rest-Event-Graphics.jpg
END:VEVENT
BEGIN:VEVENT
DTSTART;TZID=America/Chicago:20230919T160000
DTEND;TZID=America/Chicago:20230921T150000
DTSTAMP:20260421T073939
CREATED:20230802T183631Z
LAST-MODIFIED:20230829T225820Z
UID:10000063-1695139200-1695308400@warriorsrestfoundation.org
SUMMARY:Clinicians for Warriors Conference
DESCRIPTION:PLEASE NOTE: This event is ONLY for Licensed Mental Health Professionals or Mental Health Professionals in practicum/supervision. \nThe Clinicians for Warriors Conference & Retreat is a time for clinicians to rest\, refresh\, and sharpen their clinical skills\, network with others\, gain new interventions\, and increase cultural competence as they gather with like-minded clinicians who work within the First Responder culture. \nPlease plan accordingly to arrive at St. Crispin’s Conference Center for check-in at 4:00 PM CST on Tuesday\, September 19 to allow participation in the Event Orientation provided at 6:00 PM CST. \nAll costs for lodging\, meals\, and refreshments\, as well as any course material\, are included in the enrollment fee. \nThe conference is scheduled to end on Thursday\, September 21st at 3:00 PM. \nOklahoma Clinicians will receive Six (6) Continuing Education Units (CEU) upon completion of the conference.
URL:https://warriorsrestfoundation.org/event/clinicians-for-warriors-conference/
LOCATION:St. Crispin’s Conference Center\, 36302 OK-9\, Wewoka\, OK\, 74884\, United States
CATEGORIES:Clinicians for Warriors Conference,Conferences,Oklahoma Training,Training
ATTACH;FMTTYPE=image/jpeg:https://warriorsrestfoundation.org/wp-content/uploads/2022/12/Warriors-Rest-Event-Graphics.jpg
ORGANIZER;CN="Jill Newman":MAILTO:jill@warriorsrestfoundation.org
END:VEVENT
END:VCALENDAR