BEGIN:VCALENDAR
VERSION:2.0
PRODID:-//Warrior&#039;s Rest Foundation - ECPv6.15.18//NONSGML v1.0//EN
CALSCALE:GREGORIAN
METHOD:PUBLISH
X-WR-CALNAME:Warrior&#039;s Rest Foundation
X-ORIGINAL-URL:https://warriorsrestfoundation.org
X-WR-CALDESC:Events for Warrior&#039;s Rest Foundation
REFRESH-INTERVAL;VALUE=DURATION:PT1H
X-Robots-Tag:noindex
X-PUBLISHED-TTL:PT1H
BEGIN:VTIMEZONE
TZID:America/Chicago
BEGIN:DAYLIGHT
TZOFFSETFROM:-0600
TZOFFSETTO:-0500
TZNAME:CDT
DTSTART:20230312T080000
END:DAYLIGHT
BEGIN:STANDARD
TZOFFSETFROM:-0500
TZOFFSETTO:-0600
TZNAME:CST
DTSTART:20231105T070000
END:STANDARD
BEGIN:DAYLIGHT
TZOFFSETFROM:-0600
TZOFFSETTO:-0500
TZNAME:CDT
DTSTART:20240310T080000
END:DAYLIGHT
BEGIN:STANDARD
TZOFFSETFROM:-0500
TZOFFSETTO:-0600
TZNAME:CST
DTSTART:20241103T070000
END:STANDARD
BEGIN:DAYLIGHT
TZOFFSETFROM:-0600
TZOFFSETTO:-0500
TZNAME:CDT
DTSTART:20250309T080000
END:DAYLIGHT
BEGIN:STANDARD
TZOFFSETFROM:-0500
TZOFFSETTO:-0600
TZNAME:CST
DTSTART:20251102T070000
END:STANDARD
END:VTIMEZONE
BEGIN:VEVENT
DTSTART;TZID=America/Chicago:20240401T080000
DTEND;TZID=America/Chicago:20240404T170000
DTSTAMP:20260420T201001
CREATED:20240301T171035Z
LAST-MODIFIED:20240301T173950Z
UID:10000109-1711958400-1712250000@warriorsrestfoundation.org
SUMMARY:BASIC PEER SUPPORT (Norman)
DESCRIPTION:ATTENTION: Due to the frequent requests for this training\, PLEASE notify us if you register for the training but are Not able to attend so we can contact people on a “Waiting List”. Thank You. \n“BASIC PEER SUPPORT” \n4-days of “Basic Peer Training” / Critical Incident Stress Management (CISM) that combines ASSISTING INDIVIDUALS in CRISIS (a 2-day course) and GROUP CRISIS INTERVENTION (another 2-day course) that is intermixed with additional wellness topics for new Peer Support members. \nASSISTING INDIVIDUALS in CRISIS trains the peer to provide Peer Support and Critical Incident Stress Management (CISM) interventions (if needed) during Individual or “1 on 1” interactions. \nGROUP CRISIS INTERVENTION prepares the Peer to provide CISM interventions of Critical Incident Stress Debriefings (CISD)\, Defusing\, Crisis Management Briefings (CMB)\, etc. in Group situations. (NOTE: PREREQUISITE for Group Crisis Intervention training is the course Assisting Individuals in Crisis shown above.) \nThe need for appropriate follow-up services and referrals\, when necessary\, will also be discussed. \nThis course is designed for First Responders and Mental Health Professionals who assist First Responders and their families in dealing with job-related Stress and Trauma. \nCLEET 32 hr CE and 4 hr MH
URL:https://warriorsrestfoundation.org/event/basic-peer-support-norman/
LOCATION:Norman Investigation Center (NIC)\, 1507 W Lindsey St\, Norman\, OK\, 73069\, United States
CATEGORIES:Assisting Individuals in Crisis & Group Crisis Intervention (GRIN),ICISF,Oklahoma Training,Training
ATTACH;FMTTYPE=image/png:https://warriorsrestfoundation.org/wp-content/uploads/2023/05/Warriors-Rest-Event-Graphics.png
END:VEVENT
BEGIN:VEVENT
DTSTART;TZID=America/Chicago:20240423T080000
DTEND;TZID=America/Chicago:20240424T170000
DTSTAMP:20260420T201001
CREATED:20240327T181029Z
LAST-MODIFIED:20240401T164021Z
UID:10000111-1713859200-1713978000@warriorsrestfoundation.org
SUMMARY:Assisting Individuals in Crisis (Pryor\, OK)
DESCRIPTION:ATTENTION: Due to the frequent requests for this training\, PLEASE notify us if you register for the training but are not able to attend so we can contact people on a “Waiting List.” Thank You. \nASSISTING INDIVIDUALS in CRISIS is PHASE 1 of the process required to become a trained “Peer Support Responder”. This is a 2-day course of “Initial Peer Support Training” / Critical Incident Stress Management (CISM) that is intermixed with additional wellness topics for new Peer Support members. This course is the foundation which prepares the student to provide Peer Support and Critical Incident Stress Management (CISM) interventions (if needed) during Individual or “1 on 1” interactions. \nGROUP CRISIS INTERVENTION is PHASE 2 of the “Initial Peer Support Training” / Critical Incident Stress Management (CISM) and will be provided at a later date in this region. GROUP CRISIS INTERVENTION is also a 2-day course which prepares the Peer to provide CISM interventions of Critical Incident Stress Debriefings (CISD)\, Defusing\, Crisis Management Briefings (CMB)\, and other strategies useful in Group situations. (NOTE: Prerequisite for Group Crisis Intervention training is the course Assisting Individuals in Crisis shown above.) \nThe need for appropriate follow-up services and referrals post-incident\, when necessary\, will also be discussed during these training courses. \nThis course is designed for First Responders and Mental Health Professionals who assist other First Responders and their families in dealing with job-related Stress and Trauma. \nCLEET CE 16 hr and 2 hr MH
URL:https://warriorsrestfoundation.org/event/assisting-individuals-in-crisis-pryor-ok/
LOCATION:Pryor PD Training Center\, 504 E. Graham\, Pryor\, OK\, 74361\, United States
CATEGORIES:Assisting Individuals in Crisis,Oklahoma Training,Training
ATTACH;FMTTYPE=image/jpeg:https://warriorsrestfoundation.org/wp-content/uploads/2023/03/3.jpg
END:VEVENT
BEGIN:VEVENT
DTSTART;TZID=America/Chicago:20240425T080000
DTEND;TZID=America/Chicago:20240426T170000
DTSTAMP:20260420T201001
CREATED:20240402T191704Z
LAST-MODIFIED:20240402T194911Z
UID:10000112-1714032000-1714150800@warriorsrestfoundation.org
SUMMARY:Assisting Individuals in Crisis (Duncan)
DESCRIPTION:ATTENTION: Due to the frequent requests for this training\, PLEASE notify us if you register for the training but are not able to attend so we can contact people on a “Waiting List”. Thank You. \nASSISTING INDIVIDUALS in CRISIS is PHASE 1 of the process required to become a trained “Peer Support Responder”. This is a 2-day course of “Initial Peer Support Training” / Critical Incident Stress Management (CISM) that is intermixed with additional wellness topics for new Peer Support members. This course is the foundation which prepares the student to provide Peer Support and Critical Incident Stress Management (CISM) interventions (if needed) during Individual or “1 on 1” interactions. \nGROUP CRISIS INTERVENTION is PHASE 2 of the “Initial Peer Support Training” / Critical Incident Stress Management (CISM) and will be provided at a later date in this region. GROUP CRISIS INTERVENTION is also a 2-day course which prepares the Peer to provide CISM interventions of Critical Incident Stress Debriefings (CISD)\, Defusing\, Crisis Management Briefings (CMB)\, and other strategies useful in Group situations. (NOTE: Prerequisite for Group Crisis Intervention training is the course Assisting Individuals in Crisis shown above.) \nThe need for appropriate follow-up services and referrals post-incident\, when necessary\, will also be discussed during these training courses. \nThis course is designed for First Responders and Mental Health Professionals who assist other First Responders and their families in dealing with job-related Stress and Trauma. \nCLEET CE 16 hr and 2 hr MH
URL:https://warriorsrestfoundation.org/event/assisting-individuals-in-crisis-duncan/
LOCATION:National Guard Armory Building\, 3000 South 13th Street\, Duncan\, OK\, 73533\, United States
CATEGORIES:Assisting Individuals in Crisis & Group Crisis Intervention (GRIN),ICISF,Oklahoma Training,Training
ATTACH;FMTTYPE=image/jpeg:https://warriorsrestfoundation.org/wp-content/uploads/2023/03/3.jpg
END:VEVENT
END:VCALENDAR