BEGIN:VCALENDAR
VERSION:2.0
PRODID:-//Warrior&#039;s Rest Foundation - ECPv6.15.18//NONSGML v1.0//EN
CALSCALE:GREGORIAN
METHOD:PUBLISH
X-ORIGINAL-URL:https://warriorsrestfoundation.org
X-WR-CALDESC:Events for Warrior&#039;s Rest Foundation
REFRESH-INTERVAL;VALUE=DURATION:PT1H
X-Robots-Tag:noindex
X-PUBLISHED-TTL:PT1H
BEGIN:VTIMEZONE
TZID:America/Chicago
BEGIN:DAYLIGHT
TZOFFSETFROM:-0600
TZOFFSETTO:-0500
TZNAME:CDT
DTSTART:20230312T080000
END:DAYLIGHT
BEGIN:STANDARD
TZOFFSETFROM:-0500
TZOFFSETTO:-0600
TZNAME:CST
DTSTART:20231105T070000
END:STANDARD
BEGIN:DAYLIGHT
TZOFFSETFROM:-0600
TZOFFSETTO:-0500
TZNAME:CDT
DTSTART:20240310T080000
END:DAYLIGHT
BEGIN:STANDARD
TZOFFSETFROM:-0500
TZOFFSETTO:-0600
TZNAME:CST
DTSTART:20241103T070000
END:STANDARD
BEGIN:DAYLIGHT
TZOFFSETFROM:-0600
TZOFFSETTO:-0500
TZNAME:CDT
DTSTART:20250309T080000
END:DAYLIGHT
BEGIN:STANDARD
TZOFFSETFROM:-0500
TZOFFSETTO:-0600
TZNAME:CST
DTSTART:20251102T070000
END:STANDARD
END:VTIMEZONE
BEGIN:VEVENT
DTSTART;TZID=America/Chicago:20240520T080000
DTEND;TZID=America/Chicago:20240521T170000
DTSTAMP:20260420T182414
CREATED:20240428T044203Z
LAST-MODIFIED:20240428T044345Z
UID:10000114-1716192000-1716310800@warriorsrestfoundation.org
SUMMARY:Group Crisis Intervention (Pryor\, OK)
DESCRIPTION:GROUP CRISIS INTERVENTION is PHASE 2 of the “Initial Peer Support Training” / Critical Incident Stress Management (CISM). GROUP CRISIS INTERVENTION is a 2-day course which prepares the Peer to provide CISM interventions of Critical Incident Stress Debriefings (CISD)\, Defusing\, Crisis Management Briefings (CMB)\, Strategic Planning and other strategies useful in Group situations. \nThe need for appropriate follow-up services and referrals post-incident\, when necessary\, will also be discussed during these training courses. \nThis course is designed for First Responders and Mental Health Professionals who assist other First Responders and their families in dealing with job-related Stress and Trauma. \nATTENTION: The PREREQUISITE to attend this Group Crisis Intervention training is the 2-day course titled ASSISTING INDIVIDUALS in CRISIS which is PHASE 1 of the process required to become a trained “Peer Support Responder”. \nCLEET CE 16 hr and 2 hr MH
URL:https://warriorsrestfoundation.org/event/group-crisis-intervention-pryor-ok/
LOCATION:Pryor PD Training Center\, 504 E. Graham\, Pryor\, OK\, 74361\, United States
CATEGORIES:Group Crisis Intervention,ICISF,Oklahoma Training,Training
ATTACH;FMTTYPE=image/jpeg:https://warriorsrestfoundation.org/wp-content/uploads/2023/03/3.jpg
ORGANIZER;CN="Grant Roberts":MAILTO:Christina@warriorsrestfoundation.org
END:VEVENT
END:VCALENDAR