BEGIN:VCALENDAR
VERSION:2.0
PRODID:-//Warrior&#039;s Rest Foundation - ECPv6.15.18//NONSGML v1.0//EN
CALSCALE:GREGORIAN
METHOD:PUBLISH
X-ORIGINAL-URL:https://warriorsrestfoundation.org
X-WR-CALDESC:Events for Warrior&#039;s Rest Foundation
REFRESH-INTERVAL;VALUE=DURATION:PT1H
X-Robots-Tag:noindex
X-PUBLISHED-TTL:PT1H
BEGIN:VTIMEZONE
TZID:America/Chicago
BEGIN:DAYLIGHT
TZOFFSETFROM:-0600
TZOFFSETTO:-0500
TZNAME:CDT
DTSTART:20230312T080000
END:DAYLIGHT
BEGIN:STANDARD
TZOFFSETFROM:-0500
TZOFFSETTO:-0600
TZNAME:CST
DTSTART:20231105T070000
END:STANDARD
BEGIN:DAYLIGHT
TZOFFSETFROM:-0600
TZOFFSETTO:-0500
TZNAME:CDT
DTSTART:20240310T080000
END:DAYLIGHT
BEGIN:STANDARD
TZOFFSETFROM:-0500
TZOFFSETTO:-0600
TZNAME:CST
DTSTART:20241103T070000
END:STANDARD
BEGIN:DAYLIGHT
TZOFFSETFROM:-0600
TZOFFSETTO:-0500
TZNAME:CDT
DTSTART:20250309T080000
END:DAYLIGHT
BEGIN:STANDARD
TZOFFSETFROM:-0500
TZOFFSETTO:-0600
TZNAME:CST
DTSTART:20251102T070000
END:STANDARD
END:VTIMEZONE
BEGIN:VEVENT
DTSTART;TZID=America/Chicago:20240606T080000
DTEND;TZID=America/Chicago:20240607T170000
DTSTAMP:20260420T144254
CREATED:20240506T210128Z
LAST-MODIFIED:20240521T131257Z
UID:10000115-1717660800-1717779600@warriorsrestfoundation.org
SUMMARY:Assisting Individuals in Crisis (Weatherford\, OK)
DESCRIPTION:ASSISTING INDIVIDUALS in CRISIS is PHASE 1 of the process required to become a trained “Peer Support Responder”. This is a 2-day course of “Initial Peer Support Training” / Critical Incident Stress Management (CISM) that is intermixed with additional wellness topics for new Peer Support members. This course is the foundation which prepares the student to provide Peer Support and Critical Incident Stress Management (CISM) interventions (if needed) during Individual or “1 on 1” interactions. \nGROUP CRISIS INTERVENTION is PHASE 2 of the “Initial Peer Support Training” / Critical Incident Stress Management (CISM) and will be provided at a later date in this region. GROUP CRISIS INTERVENTION is also a 2-day course which prepares the Peer to provide CISM interventions of Critical Incident Stress Debriefings (CISD)\, Defusing\, Crisis Management Briefings (CMB)\, and other strategies useful in Group situations. (NOTE: Prerequisite for Group Crisis Intervention training is the course Assisting Individuals in Crisis shown above.) \nThe need for appropriate follow-up services and referrals post-incident\, when necessary\, will also be discussed during these training courses. \nThis course is designed for First Responders and Mental Health Professionals who assist other First Responders and their families in dealing with job-related Stress and Trauma. \nCLEET CE 16 hr and 2 hr MH \nATTENTION: Due to the frequent requests for this training\, PLEASE notify us if you register for this class but your schedules change and are Not able to attend. This allows us to contact people who may be on a “Waiting List”. Thank You.
URL:https://warriorsrestfoundation.org/event/assisting-individuals-in-crisis-weatherford-ok/
LOCATION:Southwestern Oklahoma State University (SWOSU)\, Business Enterprise Center (BEC)\, Redbud Hall 1121 N 7th St\, Weatherford\, 73096\, United States
CATEGORIES:Assisting Individuals in Crisis,ICISF,Oklahoma Training,Training
ATTACH;FMTTYPE=image/jpeg:https://warriorsrestfoundation.org/wp-content/uploads/2023/03/3.jpg
ORGANIZER;CN="Gary Isbell":MAILTO:Isbell171@gmail.com
END:VEVENT
BEGIN:VEVENT
DTSTART;TZID=America/Chicago:20240612T100000
DTEND;TZID=America/Chicago:20240612T150000
DTSTAMP:20260420T144254
CREATED:20240515T203124Z
LAST-MODIFIED:20240524T133003Z
UID:10000116-1718186400-1718204400@warriorsrestfoundation.org
SUMMARY:GEARY PD WELLNESS EVENT
DESCRIPTION:Understanding Suicide and Suicide Prevention 2 hr CLEET / 2 Hr MH \n10:00am – 12:00 Noon \nThis course provides First Responders insight into Suicide as well as potential Suicide Intervention\ntechniques. The multitude of small stress reactions incurred by First Responders during their\ncareer can pile up and lead to a negative attitude in the workplace\, in their personal life at home\,\nor both. This course is intended to educate First Responders how the impact of daily work-related\nand/or personal life experiences can cause traumatic reactions which have led to Suicide. \nLUNCH WILL BE PROVIDED AT THE TRAINING LOCATION. \nPRIOR REGISTRATION IS REQUIRED! \nSurviving and Thriving a Career as a 1st Responder 2 hr CLEET / 2 Hr MH \n1:00pm – 3:00pm \nThis course uses common reactions to workplace stress and trauma to illustrate the pitfalls of\nthe 1st Responder work environment. The course asks students to recall their support foundation\nupon entering their career and how it has changed both positive and negative. We will review the\neffects of job-related trauma and stress and how to take control of your “off-duty” time. The\ncourse is applicable for ALL First Responder groups who may have different assignments and\nduties but share “Common Reactions to Stress and Trauma”.
URL:https://warriorsrestfoundation.org/event/geary-pd-wellness-event/
LOCATION:Cheyenne and Arapaho Emergency Response Center\, 928 S. Blaine\, Geary\, OK\, 73040\, United States
CATEGORIES:Continuing Education,Oklahoma Training,Understanding Suicide
END:VEVENT
END:VCALENDAR