BEGIN:VCALENDAR
VERSION:2.0
PRODID:-//Warrior&#039;s Rest Foundation - ECPv6.15.18//NONSGML v1.0//EN
CALSCALE:GREGORIAN
METHOD:PUBLISH
X-ORIGINAL-URL:https://warriorsrestfoundation.org
X-WR-CALDESC:Events for Warrior&#039;s Rest Foundation
REFRESH-INTERVAL;VALUE=DURATION:PT1H
X-Robots-Tag:noindex
X-PUBLISHED-TTL:PT1H
BEGIN:VTIMEZONE
TZID:America/Chicago
BEGIN:DAYLIGHT
TZOFFSETFROM:-0600
TZOFFSETTO:-0500
TZNAME:CDT
DTSTART:20230312T080000
END:DAYLIGHT
BEGIN:STANDARD
TZOFFSETFROM:-0500
TZOFFSETTO:-0600
TZNAME:CST
DTSTART:20231105T070000
END:STANDARD
BEGIN:DAYLIGHT
TZOFFSETFROM:-0600
TZOFFSETTO:-0500
TZNAME:CDT
DTSTART:20240310T080000
END:DAYLIGHT
BEGIN:STANDARD
TZOFFSETFROM:-0500
TZOFFSETTO:-0600
TZNAME:CST
DTSTART:20241103T070000
END:STANDARD
BEGIN:DAYLIGHT
TZOFFSETFROM:-0600
TZOFFSETTO:-0500
TZNAME:CDT
DTSTART:20250309T080000
END:DAYLIGHT
BEGIN:STANDARD
TZOFFSETFROM:-0500
TZOFFSETTO:-0600
TZNAME:CST
DTSTART:20251102T070000
END:STANDARD
END:VTIMEZONE
BEGIN:VEVENT
DTSTART;TZID=America/Chicago:20240710T140000
DTEND;TZID=America/Chicago:20240713T120000
DTSTAMP:20260420T130415
CREATED:20240419T193159Z
LAST-MODIFIED:20240624T183213Z
UID:10000113-1720620000-1720872000@warriorsrestfoundation.org
SUMMARY:Clinicians for Warriors Conference 2024
DESCRIPTION:The second annual Warrior’s Rest Foundation Clinicians for Warriors Conference and Retreat will assist clinicians with increasing cultural competence while networking and practicing self-care with like-minded clinicians. \nOklahoma Clinicians will receive CEUs
URL:https://warriorsrestfoundation.org/event/clinicians-for-warriors-conference-2024/
LOCATION:Chickasaw Retreat and Conference Center\, 4205 Goddard Youth Camp Road\, Sulphur\, OK\, 73086\, United States
CATEGORIES:Clinicians for Warriors Conference,Conferences,Continuing Education,Events/ Fundraising,Oklahoma Training,Training
ATTACH;FMTTYPE=image/jpeg:https://warriorsrestfoundation.org/wp-content/uploads/2022/12/Warriors-Rest-Event-Graphics.jpg
ORGANIZER;CN="Jill Newman":MAILTO:jill@warriorsrestfoundation.org
END:VEVENT
BEGIN:VEVENT
DTSTART;TZID=America/Chicago:20240722T080000
DTEND;TZID=America/Chicago:20240723T170000
DTSTAMP:20260420T130415
CREATED:20240604T031047Z
LAST-MODIFIED:20240604T031119Z
UID:10000120-1721635200-1721754000@warriorsrestfoundation.org
SUMMARY:Assisting Individuals in Crisis (Muskogee\, OK)
DESCRIPTION:ASSISTING INDIVIDUALS in CRISIS is PHASE 1 of the process required to become a trained “Peer Support Responder”. This is a 2-day course of “Initial Peer Support Training” / Critical Incident Stress Management (CISM) that is intermixed with additional wellness topics for new Peer Support members. This course is the foundation that prepares the student to provide Peer Support and Critical Incident Stress Management (CISM) interventions (if needed) during Individual or “1 on 1” interactions. \nGROUP CRISIS INTERVENTION is PHASE 2 of the “Initial Peer Support Training” / Critical Incident Stress Management (CISM) and will be provided at a later date in this region. It is also a two-day course that prepares the Peer to provide CISM interventions of Critical Incident Stress Debriefings (CISD)\, Defusing\, Crisis Management Briefings (CMB)\, and other strategies useful in Group situations. (NOTE: The prerequisite for Group Crisis Intervention training is the course Assisting Individuals in Crisis\, as shown above.) \nThese training courses will also discuss the need for appropriate follow-up services and referrals post-incident\, when necessary. \nThis course is designed for First Responders and Mental Health Professionals who assist other First Responders and their families in dealing with job-related Stress and Trauma. \nCLEET CE 16 hr and 2 hr MH \nATTENTION: Due to the frequent requests for this training\, PLEASE notify us if you register for this class\, but your schedules change and you cannot attend. This allows us to contact people who may be on a “Waiting List”. Thank You.
URL:https://warriorsrestfoundation.org/event/assisting-individuals-in-crisis-muskogee-ok/
LOCATION:Muskogee Civic Center\, Muskogee Civic Center Rooms C and D 425 Boston St\, Muskogee\, OK\, 74401\, United States
CATEGORIES:Assisting Individuals in Crisis,ICISF,Oklahoma Training,Training
ATTACH;FMTTYPE=image/jpeg:https://warriorsrestfoundation.org/wp-content/uploads/2022/12/2.jpg
ORGANIZER;CN="Grant Roberts":MAILTO:Christina@warriorsrestfoundation.org
END:VEVENT
BEGIN:VEVENT
DTSTART;TZID=America/Chicago:20240724T080000
DTEND;TZID=America/Chicago:20240725T170000
DTSTAMP:20260420T130415
CREATED:20240531T181457Z
LAST-MODIFIED:20240531T181457Z
UID:10000118-1721808000-1721926800@warriorsrestfoundation.org
SUMMARY:Assisting Individuals in Crisis (Poteau\, OK)
DESCRIPTION:ASSISTING INDIVIDUALS in CRISIS is PHASE 1 of the process required to become a trained “Peer Support Responder”. This is a 2-day course of “Initial Peer Support Training” / Critical Incident Stress Management (CISM) that is intermixed with additional wellness topics for new Peer Support members. This course is the foundation which prepares the student to provide Peer Support and Critical Incident Stress Management (CISM) interventions (if needed) during Individual or “1 on 1” interactions. \nGROUP CRISIS INTERVENTION is PHASE 2 of the “Initial Peer Support Training” / Critical Incident Stress Management (CISM). The GROUP CRISIS training will be provided at a later date in this region. GROUP CRISIS INTERVENTION is also a 2-day course which prepares the Peer to provide CISM interventions of Critical Incident Stress Debriefings (CISD)\, Defusing\, Crisis Management Briefings (CMB)\, and other strategies useful in Group situations. (NOTE: Prerequisite for Group Crisis Intervention training is the course Assisting Individuals in Crisis shown above.) \nThe need for appropriate follow-up services and referrals post-incident\, when necessary\, will also be discussed during these training courses. \nThis course is designed for First Responders and Mental Health Professionals who assist other First Responders and their families in dealing with job-related Stress and Trauma. \nCLEET CE 16 hr and 2 hr MH \nATTENTION: Due to the frequent requests for this training\, PLEASE notify us if you register for this class but your schedules change and are NOT able to attend. This allows us to contact people who may be on a “Waiting List”. Thank You.
URL:https://warriorsrestfoundation.org/event/assisting-individuals-in-crisis-poteau-ok/
LOCATION:Kiamichi Tech – Poteau\, Seminar Center\, Poteau\, OK\, 74953\, United States
CATEGORIES:Assisting Individuals in Crisis,ICISF,Oklahoma Training,Training
ATTACH;FMTTYPE=image/jpeg:https://warriorsrestfoundation.org/wp-content/uploads/2023/03/3.jpg
ORGANIZER;CN="Gary Isbell":MAILTO:Isbell171@gmail.com
END:VEVENT
BEGIN:VEVENT
DTSTART;TZID=America/Chicago:20240729T080000
DTEND;TZID=America/Chicago:20240730T170000
DTSTAMP:20260420T130415
CREATED:20240531T180215Z
LAST-MODIFIED:20240531T180414Z
UID:10000117-1722240000-1722358800@warriorsrestfoundation.org
SUMMARY:Assisting Individuals in Crisis (Stillwater\, OK)
DESCRIPTION:ASSISTING INDIVIDUALS in CRISIS is PHASE 1 of the process required to become a trained “Peer Support Responder”. This is a 2-day course of “Initial Peer Support Training” / Critical Incident Stress Management (CISM) that is intermixed with additional wellness topics for new Peer Support members. This course is the foundation which prepares the student to provide Peer Support and Critical Incident Stress Management (CISM) interventions (if needed) during Individual or “1 on 1” interactions. \nGROUP CRISIS INTERVENTION is PHASE 2 of the “Initial Peer Support Training” / Critical Incident Stress Management (CISM) and will be provided at a later date in this region. GROUP CRISIS INTERVENTION is also a 2-day course which prepares the Peer to provide CISM interventions of Critical Incident Stress Debriefings (CISD)\, Defusing\, Crisis Management Briefings (CMB)\, and other strategies useful in Group situations. (NOTE: Prerequisite for Group Crisis Intervention training is the course Assisting Individuals in Crisis as shown above.) \nThe need for appropriate follow-up services and referrals post-incident\, when necessary\, will also be discussed during these training courses. \nThis course is designed for First Responders and Mental Health Professionals who assist other First Responders and their families in dealing with job-related Stress and Trauma. \nCLEET CE 16 hr and 2 hr MH \nATTENTION: Due to the frequent requests for this training\, PLEASE notify us if you register for this class but your schedules change and are Not able to attend. This allows us to contact people who may be on a “Waiting List\,.” Thank You.
URL:https://warriorsrestfoundation.org/event/assisting-individuals-in-crisis-stillwater-ok/
LOCATION:Stillwater Public Library\, Stillwater Public Library\, Room # 119\, 1107 S. Duck Street\, OK\, 74074\, United States
CATEGORIES:Assisting Individuals in Crisis,ICISF,Oklahoma Training,Training
ATTACH;FMTTYPE=image/jpeg:https://warriorsrestfoundation.org/wp-content/uploads/2023/03/3.jpg
ORGANIZER;CN="Kathy Thomas":MAILTO:Kathy@warriorsrestfoundation.org
END:VEVENT
END:VCALENDAR