BEGIN:VCALENDAR
VERSION:2.0
PRODID:-//Warrior&#039;s Rest Foundation - ECPv6.15.18//NONSGML v1.0//EN
CALSCALE:GREGORIAN
METHOD:PUBLISH
X-ORIGINAL-URL:https://warriorsrestfoundation.org
X-WR-CALDESC:Events for Warrior&#039;s Rest Foundation
REFRESH-INTERVAL;VALUE=DURATION:PT1H
X-Robots-Tag:noindex
X-PUBLISHED-TTL:PT1H
BEGIN:VTIMEZONE
TZID:America/Chicago
BEGIN:DAYLIGHT
TZOFFSETFROM:-0600
TZOFFSETTO:-0500
TZNAME:CDT
DTSTART:20220313T080000
END:DAYLIGHT
BEGIN:STANDARD
TZOFFSETFROM:-0500
TZOFFSETTO:-0600
TZNAME:CST
DTSTART:20221106T070000
END:STANDARD
BEGIN:DAYLIGHT
TZOFFSETFROM:-0600
TZOFFSETTO:-0500
TZNAME:CDT
DTSTART:20230312T080000
END:DAYLIGHT
BEGIN:STANDARD
TZOFFSETFROM:-0500
TZOFFSETTO:-0600
TZNAME:CST
DTSTART:20231105T070000
END:STANDARD
BEGIN:DAYLIGHT
TZOFFSETFROM:-0600
TZOFFSETTO:-0500
TZNAME:CDT
DTSTART:20240310T080000
END:DAYLIGHT
BEGIN:STANDARD
TZOFFSETFROM:-0500
TZOFFSETTO:-0600
TZNAME:CST
DTSTART:20241103T070000
END:STANDARD
END:VTIMEZONE
BEGIN:VEVENT
DTSTART;VALUE=DATE:20230415
DTEND;VALUE=DATE:20230417
DTSTAMP:20260421T172851
CREATED:20230328T182645Z
LAST-MODIFIED:20230406T171326Z
UID:10000027-1681516800-1681689599@warriorsrestfoundation.org
SUMMARY:Critical Incident Stress Management (CISM)
DESCRIPTION:Assisting Individuals in Crisis \n\n\n\n\n\nCrisis Intervention is NOT psychotherapy; rather\, it is a specialized acute emergency mental health intervention which requires specialized training. As physical first aid is to surgery\, crisis intervention is to psychotherapy. Thus\, crisis intervention is sometimes called “emotional first aid”. This program is designed to teach participants the fundamentals of\, and a specific protocol for\, individual crisis intervention. This course is designed for anyone who desires to increase their knowledge of individual (one-on-one) crisis intervention techniques in the fields of Business & Industry\, Crisis Intervention\, Disaster Response\, Education\, Emergency Services\, Employee Assistance\, Healthcare\, Homeland Security\, Mental Health\, Military\, Spiritual Care\, and Traumatic Stress.\n\nTwo-Day Course / 16 Contact Hours / 2 hours of CLEET Training mental health
URL:https://warriorsrestfoundation.org/event/critical-incident-stress-management-cism-4/
LOCATION:Mid-America Technology Center\, 27438 OK-59\, Wayne\, OK\, 73095\, United States
CATEGORIES:Assisting Individuals in Crisis,Group Crisis Intervention,ICISF,Oklahoma Training,Training
ATTACH;FMTTYPE=image/jpeg:https://warriorsrestfoundation.org/wp-content/uploads/2023/03/3.jpg
END:VEVENT
END:VCALENDAR