BEGIN:VCALENDAR
VERSION:2.0
PRODID:-//Warrior&#039;s Rest Foundation - ECPv6.15.18//NONSGML v1.0//EN
CALSCALE:GREGORIAN
METHOD:PUBLISH
X-WR-CALNAME:Warrior&#039;s Rest Foundation
X-ORIGINAL-URL:https://warriorsrestfoundation.org
X-WR-CALDESC:Events for Warrior&#039;s Rest Foundation
REFRESH-INTERVAL;VALUE=DURATION:PT1H
X-Robots-Tag:noindex
X-PUBLISHED-TTL:PT1H
BEGIN:VTIMEZONE
TZID:America/Chicago
BEGIN:DAYLIGHT
TZOFFSETFROM:-0600
TZOFFSETTO:-0500
TZNAME:CDT
DTSTART:20220313T080000
END:DAYLIGHT
BEGIN:STANDARD
TZOFFSETFROM:-0500
TZOFFSETTO:-0600
TZNAME:CST
DTSTART:20221106T070000
END:STANDARD
BEGIN:DAYLIGHT
TZOFFSETFROM:-0600
TZOFFSETTO:-0500
TZNAME:CDT
DTSTART:20230312T080000
END:DAYLIGHT
BEGIN:STANDARD
TZOFFSETFROM:-0500
TZOFFSETTO:-0600
TZNAME:CST
DTSTART:20231105T070000
END:STANDARD
BEGIN:DAYLIGHT
TZOFFSETFROM:-0600
TZOFFSETTO:-0500
TZNAME:CDT
DTSTART:20240310T080000
END:DAYLIGHT
BEGIN:STANDARD
TZOFFSETFROM:-0500
TZOFFSETTO:-0600
TZNAME:CST
DTSTART:20241103T070000
END:STANDARD
END:VTIMEZONE
BEGIN:VEVENT
DTSTART;TZID=America/Chicago:20230803T080000
DTEND;TZID=America/Chicago:20230804T170000
DTSTAMP:20260421T103943
CREATED:20230608T211921Z
LAST-MODIFIED:20230711T205631Z
UID:10000051-1691049600-1691168400@warriorsrestfoundation.org
SUMMARY:2 Day CISM- Group Crisis Intervention
DESCRIPTION:Course Description: \nDesigned to present the core elements of a comprehensive\, systematic and multi-component crisis intervention curriculum\, the Group Crisis Intervention course will prepare participants to understand a wide range of crisis intervention services. Fundamentals of Critical Incident Stress Management (CISM) will be outlined and participants will leave with the knowledge and tools to provide several group crisis interventions\, specifically demobilizations\, defusings and the Critical Incident Stress Debriefing (CISD). The need for appropriate follow-up services and referrals when necessary will also be discussed. \n  \nTwo-Day Course / 16 Contact Hours / 2 hours of CLEET Training mental health
URL:https://warriorsrestfoundation.org/event/2-day-cism-group-crisis-intervention/
LOCATION:Strategy Center\, 6105 SE Nowata Road\, Bartlesville\, OK\, 74006\, United States
CATEGORIES:Group Crisis Intervention,Oklahoma Training,Training
ATTACH;FMTTYPE=image/jpeg:https://warriorsrestfoundation.org/wp-content/uploads/2022/12/2.jpg
END:VEVENT
END:VCALENDAR