BEGIN:VCALENDAR
VERSION:2.0
PRODID:-//Warrior&#039;s Rest Foundation - ECPv6.15.18//NONSGML v1.0//EN
CALSCALE:GREGORIAN
METHOD:PUBLISH
X-ORIGINAL-URL:https://warriorsrestfoundation.org
X-WR-CALDESC:Events for Warrior&#039;s Rest Foundation
REFRESH-INTERVAL;VALUE=DURATION:PT1H
X-Robots-Tag:noindex
X-PUBLISHED-TTL:PT1H
BEGIN:VTIMEZONE
TZID:America/Chicago
BEGIN:DAYLIGHT
TZOFFSETFROM:-0600
TZOFFSETTO:-0500
TZNAME:CDT
DTSTART:20220313T080000
END:DAYLIGHT
BEGIN:STANDARD
TZOFFSETFROM:-0500
TZOFFSETTO:-0600
TZNAME:CST
DTSTART:20221106T070000
END:STANDARD
BEGIN:DAYLIGHT
TZOFFSETFROM:-0600
TZOFFSETTO:-0500
TZNAME:CDT
DTSTART:20230312T080000
END:DAYLIGHT
BEGIN:STANDARD
TZOFFSETFROM:-0500
TZOFFSETTO:-0600
TZNAME:CST
DTSTART:20231105T070000
END:STANDARD
BEGIN:DAYLIGHT
TZOFFSETFROM:-0600
TZOFFSETTO:-0500
TZNAME:CDT
DTSTART:20240310T080000
END:DAYLIGHT
BEGIN:STANDARD
TZOFFSETFROM:-0500
TZOFFSETTO:-0600
TZNAME:CST
DTSTART:20241103T070000
END:STANDARD
END:VTIMEZONE
BEGIN:VEVENT
DTSTART;TZID=America/Chicago:20230814T080000
DTEND;TZID=America/Chicago:20230817T170000
DTSTAMP:20260421T110504
CREATED:20230620T163144Z
LAST-MODIFIED:20230620T182758Z
UID:10000055-1692000000-1692291600@warriorsrestfoundation.org
SUMMARY:Shawnee CISM / Peer Support Team Training
DESCRIPTION:This 4-day course combines ALL the content of ICISF’s Assisting Individuals in Crisis & Group Crisis Intervention courses. \nCrisis Intervention is NOT psychotherapy; rather\, it is a specialized acute emergency mental health intervention that requires specialized training. As physical first aid is to surgery\, crisis intervention is to psychotherapy. Thus\, crisis intervention is sometimes called “emotional first aid.” Designed to present the core elements of a comprehensive\, systematic\, and multi-component crisis intervention curriculum\, this course will prepare participants to understand a wide range of crisis intervention services for both the individual and groups. Fundamentals of Critical Incident Stress Management (CISM) will be outlined\, and participants will leave with the knowledge and tools to provide several group crisis interventions\, specifically demobilizations\, defusing\, and Critical Incident Stress Debriefing (CISD). The need for appropriate follow-up services and referrals\, when necessary\, will also be discussed. \nThis course is designed for  First Responders and Mental Health Professionals who assist First Responders and their families in dealing with job-related Stress and Trauma. \nClass times: 0800-1800 Four-day Course / 32 Accredited Contact hours and 4 hours Mental Health
URL:https://warriorsrestfoundation.org/event/shawnee-cism-peer-support-team-training/
LOCATION:Gordon Cooper Technology Center – Public Safety Enterprise Room\, One John C Bruton Blvd\, Shawnee\, OK\, 74804\, United States
CATEGORIES:Oklahoma Training,Training
ATTACH;FMTTYPE=image/png:https://warriorsrestfoundation.org/wp-content/uploads/2023/05/Warriors-Rest-Event-Graphics.png
END:VEVENT
END:VCALENDAR