BEGIN:VCALENDAR
VERSION:2.0
PRODID:-//Warrior&#039;s Rest Foundation - ECPv6.15.18//NONSGML v1.0//EN
CALSCALE:GREGORIAN
METHOD:PUBLISH
X-WR-CALNAME:Warrior&#039;s Rest Foundation
X-ORIGINAL-URL:https://warriorsrestfoundation.org
X-WR-CALDESC:Events for Warrior&#039;s Rest Foundation
REFRESH-INTERVAL;VALUE=DURATION:PT1H
X-Robots-Tag:noindex
X-PUBLISHED-TTL:PT1H
BEGIN:VTIMEZONE
TZID:America/Chicago
BEGIN:DAYLIGHT
TZOFFSETFROM:-0600
TZOFFSETTO:-0500
TZNAME:CDT
DTSTART:20220313T080000
END:DAYLIGHT
BEGIN:STANDARD
TZOFFSETFROM:-0500
TZOFFSETTO:-0600
TZNAME:CST
DTSTART:20221106T070000
END:STANDARD
BEGIN:DAYLIGHT
TZOFFSETFROM:-0600
TZOFFSETTO:-0500
TZNAME:CDT
DTSTART:20230312T080000
END:DAYLIGHT
BEGIN:STANDARD
TZOFFSETFROM:-0500
TZOFFSETTO:-0600
TZNAME:CST
DTSTART:20231105T070000
END:STANDARD
BEGIN:DAYLIGHT
TZOFFSETFROM:-0600
TZOFFSETTO:-0500
TZNAME:CDT
DTSTART:20240310T080000
END:DAYLIGHT
BEGIN:STANDARD
TZOFFSETFROM:-0500
TZOFFSETTO:-0600
TZNAME:CST
DTSTART:20241103T070000
END:STANDARD
END:VTIMEZONE
BEGIN:VEVENT
DTSTART;TZID=America/Chicago:20231010T080000
DTEND;TZID=America/Chicago:20231014T170000
DTSTAMP:20260421T074022
CREATED:20230911T020348Z
LAST-MODIFIED:20230911T020651Z
UID:10000081-1696924800-1697302800@warriorsrestfoundation.org
SUMMARY:Basic Peer Support
DESCRIPTION:ATTENTION: Due to the frequent requests for this training\, PLEASE notify us if you register for the training but are Not able to attend so we can contact people on a “Waiting List”. Thank You. \n“BASIC PEER SUPPORT” \n4-days of “Basic Peer Training” / Critical Incident Stress Management (CISM) that combines Assisting Individuals in Crisis (a 2-day course) and Group Crisis Intervention (another 2-day course) that is intermixed with additional wellness topics for new Peer Support members. \nAssisting Individuals in Crisis trains the peer to provide Peer Support and Critical Incident Stress Management (CISM) interventions (if needed) during Individual or “1 on 1” interactions. \nGroup Crisis Intervention prepares the Peer to provide CISM interventions of Critical Incident Stress Debriefings (CISD)\, Defusing\, Crisis Management Briefings (CMB)\, etc. in Group situations. (NOTE: Prerequisite for Group Crisis Intervention training is the course Assisting Individuals in Crisis shown above.) \nThe need for appropriate follow-up services and referrals\, when necessary\, will also be discussed. \nThis course is designed for First Responders and Mental Health Professionals who assist First Responders and their families in dealing with job-related Stress and Trauma.
URL:https://warriorsrestfoundation.org/event/basic-peer-support/
LOCATION:EMSA – Oklahoma City Office\, 6205 S. Sooner Road\, Oklahoma City Oklahoma\, OK\, 73135\, United States
CATEGORIES:Oklahoma Training,Training
ATTACH;FMTTYPE=image/png:https://warriorsrestfoundation.org/wp-content/uploads/2023/09/5-Day-CISM.png
ORGANIZER;CN="Warrior's Rest":MAILTO:Matt@warriorsrestfoundation.org
END:VEVENT
END:VCALENDAR