BEGIN:VCALENDAR
VERSION:2.0
PRODID:-//Warrior&#039;s Rest Foundation - ECPv6.15.18//NONSGML v1.0//EN
CALSCALE:GREGORIAN
METHOD:PUBLISH
X-ORIGINAL-URL:https://warriorsrestfoundation.org
X-WR-CALDESC:Events for Warrior&#039;s Rest Foundation
REFRESH-INTERVAL;VALUE=DURATION:PT1H
X-Robots-Tag:noindex
X-PUBLISHED-TTL:PT1H
BEGIN:VTIMEZONE
TZID:America/Chicago
BEGIN:DAYLIGHT
TZOFFSETFROM:-0600
TZOFFSETTO:-0500
TZNAME:CDT
DTSTART:20230312T080000
END:DAYLIGHT
BEGIN:STANDARD
TZOFFSETFROM:-0500
TZOFFSETTO:-0600
TZNAME:CST
DTSTART:20231105T070000
END:STANDARD
BEGIN:DAYLIGHT
TZOFFSETFROM:-0600
TZOFFSETTO:-0500
TZNAME:CDT
DTSTART:20240310T080000
END:DAYLIGHT
BEGIN:STANDARD
TZOFFSETFROM:-0500
TZOFFSETTO:-0600
TZNAME:CST
DTSTART:20241103T070000
END:STANDARD
BEGIN:DAYLIGHT
TZOFFSETFROM:-0600
TZOFFSETTO:-0500
TZNAME:CDT
DTSTART:20250309T080000
END:DAYLIGHT
BEGIN:STANDARD
TZOFFSETFROM:-0500
TZOFFSETTO:-0600
TZNAME:CST
DTSTART:20251102T070000
END:STANDARD
END:VTIMEZONE
BEGIN:VEVENT
DTSTART;TZID=America/Chicago:20240306T083000
DTEND;TZID=America/Chicago:20240307T170000
DTSTAMP:20260420T233020
CREATED:20240120T014347Z
LAST-MODIFIED:20240122T174935Z
UID:10000100-1709713800-1709830800@warriorsrestfoundation.org
SUMMARY:Suicide: Prevention\, Intervention\, Postvention
DESCRIPTION:SUICIDE: Prevention\, Intervention\, and Postvention \nCLEET Hours: 14 hours with 7 MH hours\nCLEET Number: 24-0008\nCOST: FREE \n– Why do people kill themselves?\n– How do I ask someone if they are feeling Suicidal?\n– What do I do if they say they ARE Suicidal?\n– How do I deal with the strong emotions Suicide generates? \nThis 2-day course provides answers for these and other questions that many crisis interventionists\, peer support members\, and coworkers often have about Suicide. This intensive course is taught by a Mental Health Professional who provides participants with basic information about Suicide as well as help participants develop practical skills for Suicide Prevention\, Suicide Intervention and the follow-up Postvention. Small group role play scenarios will allow participants to apply the suggested techniques as they are learned. \nThe need for appropriate follow-up services and referrals\, when necessary\, will also be discussed. \nThis course is designed for First Responders and Mental Health Professionals who assist First Responders and their families in dealing with job-related Stress and Trauma.
URL:https://warriorsrestfoundation.org/event/suicide-prevention-intervention-postvention/
LOCATION:Meridian Technology Center\, Room # A102\, 1312 S Sangre Roa\, Stillwater\, OK\, 74074\, United States
CATEGORIES:ICISF,Oklahoma Training,Suicide Prevention, Intervention and Post-vention,Training
ATTACH;FMTTYPE=image/jpeg:https://warriorsrestfoundation.org/wp-content/uploads/2022/12/6.jpg
END:VEVENT
END:VCALENDAR