BEGIN:VCALENDAR
VERSION:2.0
PRODID:-//Warrior&#039;s Rest Foundation - ECPv6.15.18//NONSGML v1.0//EN
CALSCALE:GREGORIAN
METHOD:PUBLISH
X-ORIGINAL-URL:https://warriorsrestfoundation.org
X-WR-CALDESC:Events for Warrior&#039;s Rest Foundation
REFRESH-INTERVAL;VALUE=DURATION:PT1H
X-Robots-Tag:noindex
X-PUBLISHED-TTL:PT1H
BEGIN:VTIMEZONE
TZID:America/Chicago
BEGIN:DAYLIGHT
TZOFFSETFROM:-0600
TZOFFSETTO:-0500
TZNAME:CDT
DTSTART:20230312T080000
END:DAYLIGHT
BEGIN:STANDARD
TZOFFSETFROM:-0500
TZOFFSETTO:-0600
TZNAME:CST
DTSTART:20231105T070000
END:STANDARD
BEGIN:DAYLIGHT
TZOFFSETFROM:-0600
TZOFFSETTO:-0500
TZNAME:CDT
DTSTART:20240310T080000
END:DAYLIGHT
BEGIN:STANDARD
TZOFFSETFROM:-0500
TZOFFSETTO:-0600
TZNAME:CST
DTSTART:20241103T070000
END:STANDARD
BEGIN:DAYLIGHT
TZOFFSETFROM:-0600
TZOFFSETTO:-0500
TZNAME:CDT
DTSTART:20250309T080000
END:DAYLIGHT
BEGIN:STANDARD
TZOFFSETFROM:-0500
TZOFFSETTO:-0600
TZNAME:CST
DTSTART:20251102T070000
END:STANDARD
END:VTIMEZONE
BEGIN:VEVENT
DTSTART;TZID=America/Chicago:20240926T080000
DTEND;TZID=America/Chicago:20240927T170000
DTSTAMP:20260420T112755
CREATED:20240821T205137Z
LAST-MODIFIED:20240822T013727Z
UID:10000130-1727337600-1727456400@warriorsrestfoundation.org
SUMMARY:Group Crisis Intervention / Peer Support (Muskogee\, OK)
DESCRIPTION:GROUP CRISIS INTERVENTION is PHASE 2 of the “Initial Peer Support Training” in Critical Incident Stress Management (CISM) and is a 2-day course which prepares the Peer to provide CISM interventions of Critical Incident Stress Debriefings (CISD)\, Defusing\, Crisis Management Briefings (CMB)\, and other strategies useful in Group situations. \nThe need for appropriate follow-up services and referrals post-incident\, when necessary\, will also be discussed during these training courses. \nThis course is designed for Oklahoma First Responders and Mental Health Professionals who assist other First Responders and their families in dealing with job-related Stress and Trauma. \n(NOTE: Prerequisite to attend this Group Crisis Intervention training is the 2-day course titled Assisting Individuals in Crisis.) \nCLEET CE 16 hr. and 2 hr. MH \nATTENTION: PLEASE notify us if you register for the training but are Not able to attend so we can contact people on a “Waiting List”. Thank You.
URL:https://warriorsrestfoundation.org/event/group-crisis-intervention-peer-support-muskogee-ok/
LOCATION:Muskogee Civic Center – Rooms C and D\, 425 Boston St\, Muskogee\, OK\, 74401\, United States
CATEGORIES:Assisting Individuals in Crisis & Group Crisis Intervention (GRIN),Group Crisis Intervention,ICISF,Oklahoma Training,Training
ATTACH;FMTTYPE=image/jpeg:https://warriorsrestfoundation.org/wp-content/uploads/2022/12/2.jpg
END:VEVENT
END:VCALENDAR