BEGIN:VCALENDAR
VERSION:2.0
PRODID:-//Warrior&#039;s Rest Foundation - ECPv6.15.18//NONSGML v1.0//EN
CALSCALE:GREGORIAN
METHOD:PUBLISH
X-ORIGINAL-URL:https://warriorsrestfoundation.org
X-WR-CALDESC:Events for Warrior&#039;s Rest Foundation
REFRESH-INTERVAL;VALUE=DURATION:PT1H
X-Robots-Tag:noindex
X-PUBLISHED-TTL:PT1H
BEGIN:VTIMEZONE
TZID:America/Chicago
BEGIN:DAYLIGHT
TZOFFSETFROM:-0600
TZOFFSETTO:-0500
TZNAME:CDT
DTSTART:20240310T080000
END:DAYLIGHT
BEGIN:STANDARD
TZOFFSETFROM:-0500
TZOFFSETTO:-0600
TZNAME:CST
DTSTART:20241103T070000
END:STANDARD
BEGIN:DAYLIGHT
TZOFFSETFROM:-0600
TZOFFSETTO:-0500
TZNAME:CDT
DTSTART:20250309T080000
END:DAYLIGHT
BEGIN:STANDARD
TZOFFSETFROM:-0500
TZOFFSETTO:-0600
TZNAME:CST
DTSTART:20251102T070000
END:STANDARD
BEGIN:DAYLIGHT
TZOFFSETFROM:-0600
TZOFFSETTO:-0500
TZNAME:CDT
DTSTART:20260308T080000
END:DAYLIGHT
BEGIN:STANDARD
TZOFFSETFROM:-0500
TZOFFSETTO:-0600
TZNAME:CST
DTSTART:20261101T070000
END:STANDARD
END:VTIMEZONE
BEGIN:VEVENT
DTSTART;TZID=America/Chicago:20250325T080000
DTEND;TZID=America/Chicago:20250326T170000
DTSTAMP:20260420T014305
CREATED:20250114T173641Z
LAST-MODIFIED:20250114T175837Z
UID:10000162-1742889600-1743008400@warriorsrestfoundation.org
SUMMARY:Assisting Individuals in Crisis / Peer Support (OKC)
DESCRIPTION:ASSISTING INDIVIDUALS in CRISIS is PHASE 1 of the process to become a trained “Peer Support Responder”. This is a 2-day course of “Initial Peer Support Training” / Critical Incident Stress Management (CISM) intermixed with additional wellness topics for new Peer Support members. This course is the foundation which prepares the student to provide Peer Support and Critical Incident Stress Management (CISM) interventions (if needed) during Individual or “1 on 1” interactions. The need for appropriate follow-up services and referrals post-incident\, when necessary\, will also be discussed during this training. \nThis course is designed for First Responders and Mental Health Professionals who assist other First Responders and their families in dealing with job-related Stress and Trauma. \nCLEET CE 16 hr and 8 hr MH \n(NOTE: Prerequisite for PHASE 2 – GROUP CRISIS INTERVENTION training\, which is to be provided in this same area later in 2025\, is a PHASE 1 course titled\, Assisting Individuals in Crisis.) \nATTENTION: Due to the frequent requests for this training\, PLEASE notify us if you register for this class but your schedules change\, and you are Not able to attend. This allows us to contact people who may be on a “Waiting List.” \nContact the Warrior’s Rest Office for more information or to be added to our Waiting List for a particular class scheduled but already marked as “Sold Out”. Thank You.
URL:https://warriorsrestfoundation.org/event/assisting-individuals-in-crisis-peer-support-okc/
LOCATION:First Onsite Bldg – WRF Training Room\, 3300 N Santa Fe\, Oklahoma City\, 73118\, United States
CATEGORIES:Assisting Individuals in Crisis,ICISF,Oklahoma Training,Training
ORGANIZER;CN="Warrior's Rest Foundation":MAILTO:christina@warriorsrestfoundation.org
END:VEVENT
END:VCALENDAR